BEGIN:VCALENDAR
VERSION:2.0
PRODID:-//ChamberMaster//Event Calendar 2.0//EN
METHOD:PUBLISH
X-PUBLISHED-TTL:P3D
REFRESH-INTERVAL:P3D
CALSCALE:GREGORIAN
BEGIN:VEVENT
DTSTART:20210520T210000Z
DTEND:20210520T213000Z
X-MICROSOFT-CDO-ALLDAYEVENT:FALSE
SUMMARY:Ribbon Cutting: enGenius Consulting Group (VIRTUAL)
DESCRIPTION:Join us for a VIRTUAL Ribbon Cutting for enGenius Consulting Group! \nenGenius is a Small Disadvantaged Business (SDB) founded in 1996 that provides a broad range of services and solutions in strategy\, technology\, and program operations to the Department of Defense\, federal\, and state governments. As a small business integrator\, we work at the crossroad of business and technology to help customers achieve operational excellence and establish sustainable benefits.\n\nWe build our delivery processes on industry standards\, best practices\, and many lessons learned. Perhaps most important is our people. enGenius leaders\, project teams\, and partners focus on our customers' missions\, objectives\, strategies\, and schedules.\n\nHeadquartered in Huntsville\, AL\, with a regional office in Atlanta\, GA\, enGenius has a growing staff of over 110 associates\, and a global footprint of more than 70 CONUS and OCONUS work locations in North America\, Europe\, and Asia.
X-ALT-DESC;FMTTYPE=text/html:<br />\n<span style="font-size:16px\;">Join us for a VIRTUAL Ribbon Cutting for enGenius Consulting Group! </span>\n<p><span style="font-size:16px\;">enGenius is a Small Disadvantaged Business (SDB) founded in 1996 that provides a broad range of services and solutions in strategy\, technology\, and program operations to the Department of Defense\, federal\, and state governments. As a small business integrator\, we work at the crossroad of business and technology to help customers achieve operational excellence and establish sustainable benefits.</span></p>\n\n<p><span style="font-size:16px\;">We build our delivery processes on industry standards\, best practices\, and many lessons learned. Perhaps most important is our people. enGenius leaders\, project teams\, and partners focus on our customers&rsquo\; missions\, objectives\, strategies\, and schedules.</span></p>\n\n<p><span style="font-size:16px\;">Headquartered in Huntsville\, AL\, with a regional office in Atlanta\, GA\, enGenius has a growing staff of over 110 associates\, and a global footprint of more than 70 CONUS and OCONUS work locations in North America\, Europe\, and Asia.</span></p>\n
LOCATION:VIRTUAL EVENT
UID:e.2112.12297
SEQUENCE:3
DTSTAMP:20260421T133047Z
URL:https://cm.hsvchamber.org/events/details/ribbon-cutting-engenius-consulting-group-virtual-12297
END:VEVENT

END:VCALENDAR
