BEGIN:VCALENDAR
VERSION:2.0
PRODID:-//ChamberMaster//Event Calendar 2.0//EN
METHOD:PUBLISH
X-PUBLISHED-TTL:P3D
REFRESH-INTERVAL:P3D
CALSCALE:GREGORIAN
BEGIN:VEVENT
DTSTART:20150731T170000Z
DTEND:20150731T190000Z
X-MICROSOFT-CDO-ALLDAYEVENT:FALSE
SUMMARY:Ribbon Cutting: Downtown Rescue Mission Thrift Store
DESCRIPTION:Ribbon Cutting Ceremony will begin at noon.
X-ALT-DESC;FMTTYPE=text/html:<br />\n<span style="font-size:14px\;"><span style="font-family: arial\;">Ribbon Cutting Ceremony will begin at noon.</span></span>
LOCATION:930 Old Monrovia Road Suite 10 Madison\, AL 35806
UID:e.2112.3229
SEQUENCE:3
DTSTAMP:20260419T160448Z
URL:https://cm.hsvchamber.org/events/details/ribbon-cutting-downtown-rescue-mission-thrift-store-07-31-2015-3229
END:VEVENT

END:VCALENDAR
