BEGIN:VCALENDAR
VERSION:2.0
PRODID:-//ChamberMaster//Event Calendar 2.0//EN
METHOD:PUBLISH
X-PUBLISHED-TTL:P3D
REFRESH-INTERVAL:P3D
CALSCALE:GREGORIAN
BEGIN:VEVENT
DTSTART:20230718T210000Z
DTEND:20230718T213000Z
X-MICROSOFT-CDO-ALLDAYEVENT:FALSE
SUMMARY:Ribbon Cutting: Dewberry Engineers\, Inc.
DESCRIPTION:Please join us for a Ribbon Cutting for Dewberry Engineers! \n\n\n\nWith a legacy of more than 60 years of excellence\, we are a nationwide firm of planning\, design\, and construction professionals. We create responsible and innovative solutions for those who own\, operate\, and maintain natural and built environments. We value lasting relationships\, achieving our clients' visions\, and celebrating in their success.
X-ALT-DESC;FMTTYPE=text/html:<span style="font-size:16px\;">Please join us for a Ribbon Cutting for <strong>Dewberry Engineers</strong>!&nbsp\;<br />\n<br />\n<em>With a legacy of more than 60 years of excellence\, we are a nationwide firm of planning\, design\, and construction professionals. We create responsible and innovative solutions for those who own\, operate\, and maintain natural and built environments. We value lasting relationships\, achieving our clients&rsquo\; visions\, and celebrating in their success.</em></span><br />\n&nbsp\;
LOCATION:
UID:e.2112.16003
SEQUENCE:3
DTSTAMP:20260424T003519Z
URL:https://cm.hsvchamber.org/events/details/ribbon-cutting-dewberry-engineers-inc-16003
END:VEVENT

END:VCALENDAR
