BEGIN:VCALENDAR
VERSION:2.0
PRODID:-//ChamberMaster//Event Calendar 2.0//EN
METHOD:PUBLISH
X-PUBLISHED-TTL:P3D
REFRESH-INTERVAL:P3D
CALSCALE:GREGORIAN
BEGIN:VEVENT
DTSTART:20230814T190000Z
DTEND:20230814T193000Z
X-MICROSOFT-CDO-ALLDAYEVENT:FALSE
SUMMARY:Ribbon Cutting: Culver's
DESCRIPTION:Please join us for a Ribbon Cutting for Culver's!\n\n\n\nIn 1984\, Craig and Lea Culver\, along with Craig's parents George and Ruth\, opened the very first Culver's in the family's beloved hometown of Sauk City\, Wisconsin\, and began serving ButterBurgers  and Frozen Custard.\n\n\n\nCraveable as our signature combination is\, the Culver family knew right away that although the business is centered around the food\, it is really about the people. While folks can vividly recall the first time they bit into a ButterBurger or tasted a scoop of rich\, creamy Fresh Frozen Custard\, it's our way of welcoming guests that truly makes Culver's delicious.\n\n\n\nCheck out the Menu.
X-ALT-DESC;FMTTYPE=text/html:<span style="font-size:16px\;">Please join us for a Ribbon Cutting for <strong>Culver&#39\;s</strong>!<br />\n<br />\n<em>In 1984\, Craig and Lea Culver\, along with Craig&#39\;s parents George and Ruth\, opened the very first Culver&#39\;s in the family&#39\;s beloved hometown of Sauk City\, Wisconsin\, and began serving ButterBurgers&reg\; and Frozen Custard.<br />\n<br />\nCraveable as our signature combination is\, the Culver family knew right away that although the business is centered around the food\, it is really about the people. While folks can vividly recall the first time they bit into a ButterBurger or tasted a scoop of rich\, creamy Fresh Frozen Custard\, it&#39\;s our way of welcoming guests that truly makes Culver&#39\;s delicious.</em></span><br />\n<br />\n<span style="font-size:16px\;">Check out the <a href="https://www.culvers.com/menu-and-nutrition"><strong>Menu</strong></a>.</span><br />\n&nbsp\;
LOCATION:
UID:e.2112.16032
SEQUENCE:3
DTSTAMP:20260424T040523Z
URL:https://cm.hsvchamber.org/events/details/ribbon-cutting-culver-s-16032
END:VEVENT

END:VCALENDAR
