BEGIN:VCALENDAR
VERSION:2.0
PRODID:-//ChamberMaster//Event Calendar 2.0//EN
METHOD:PUBLISH
X-PUBLISHED-TTL:P3D
REFRESH-INTERVAL:P3D
CALSCALE:GREGORIAN
BEGIN:VEVENT
DTSTART:20221130T213000Z
DTEND:20221130T220000Z
X-MICROSOFT-CDO-ALLDAYEVENT:FALSE
SUMMARY:Ribbon Cutting: Cortina Solutions\, LLC
DESCRIPTION:Please join us for a Ribbon Cutting for Cortina Solutions\, LLC!\n\n\n\nCortina Solutions\, LLC is an SBA certified 8(a)\, 100% Woman-Owned Small Business (WOSB)\, Economically Disadvantaged Woman-Owned Small Business (EDWOSB)\, Small Disadvantaged Business (SDB)\, and Historically Underutilized Business Zone (HUBZone) defense and aerospace company located in Huntsville\, Ala.\n\n\n\nWe provide professional and technical services to the Missile Defense Agency\, Army PEO Missiles & Space\, Army PEO Combat Support & Combat Service Support (CS & CSS)\, NASA Marshall Space Flight Center (MSFC) and the Naval Health Research Center (NHRC).
X-ALT-DESC;FMTTYPE=text/html:<span style="font-size:16px\;">Please join us for a Ribbon Cutting for <strong>Cortina Solutions\, LLC</strong>!<br />\n<br />\n<em>Cortina Solutions\, LLC is an SBA certified 8(a)\, 100% Woman-Owned Small Business (WOSB)\, Economically Disadvantaged Woman-Owned Small Business (EDWOSB)\, Small Disadvantaged Business (SDB)\, and Historically Underutilized Business Zone (HUBZone) defense and aerospace company located in Huntsville\, Ala.<br />\n<br />\nWe provide professional and technical services to the Missile Defense Agency\, Army PEO Missiles &amp\; Space\, Army PEO Combat Support&nbsp\;&amp\; Combat Service Support (CS &amp\; CSS)\, NASA Marshall Space Flight Center (MSFC) and the Naval Health Research Center (NHRC).</em></span><br />\n&nbsp\;
LOCATION:Parking is available around the Cortina building in Providence.
UID:e.2112.13757
SEQUENCE:3
DTSTAMP:20260421T052708Z
URL:https://cm.hsvchamber.org/events/details/ribbon-cutting-cortina-solutions-llc-11-30-2022-13757
END:VEVENT

END:VCALENDAR
