BEGIN:VCALENDAR
VERSION:2.0
PRODID:-//ChamberMaster//Event Calendar 2.0//EN
METHOD:PUBLISH
X-PUBLISHED-TTL:P3D
REFRESH-INTERVAL:P3D
CALSCALE:GREGORIAN
BEGIN:VEVENT
DTSTART:20151013T153000Z
DTEND:20151013T160000Z
X-MICROSOFT-CDO-ALLDAYEVENT:FALSE
SUMMARY:Ribbon Cutting: Community Urgent Care
DESCRIPTION:Ribbon Cutting Ceremony\n\n\n\n*Please note that Community Urgent Care is in the same building\n\nas Sure Save Pharmacy.
X-ALT-DESC;FMTTYPE=text/html:<span style="font-size: 14px\;"><span style="font-family: arial\;">Ribbon Cutting Ceremony<br />\n<br />\n*Please note that Community Urgent Care is in the same building<br />\nas Sure Save Pharmacy.</span></span>
LOCATION:30694 US HWY 72\, Suite E Madison\, AL 35756
UID:e.2112.5205
SEQUENCE:3
DTSTAMP:20260419T211254Z
URL:https://cm.hsvchamber.org/events/details/ribbon-cutting-community-urgent-care-10-13-2015-5205
END:VEVENT

END:VCALENDAR
