BEGIN:VCALENDAR
VERSION:2.0
PRODID:-//ChamberMaster//Event Calendar 2.0//EN
METHOD:PUBLISH
X-PUBLISHED-TTL:P3D
REFRESH-INTERVAL:P3D
CALSCALE:GREGORIAN
BEGIN:VEVENT
DTSTART:20151013T180000Z
DTEND:20151013T190000Z
X-MICROSOFT-CDO-ALLDAYEVENT:FALSE
SUMMARY:Ribbon Cutting: Christmas Charities Year Round
DESCRIPTION:Ribbon Cutting Ceremony
X-ALT-DESC;FMTTYPE=text/html:<span style="font-size:14px\;"><span style="font-family: arial\;">Ribbon Cutting Ceremony</span></span>
LOCATION:2840 Jordan Lane Huntsville\, AL 35816
UID:e.2112.5116
SEQUENCE:3
DTSTAMP:20260419T211435Z
URL:https://cm.hsvchamber.org/events/details/ribbon-cutting-christmas-charities-year-round-10-13-2015-5116
END:VEVENT

END:VCALENDAR
