BEGIN:VCALENDAR
VERSION:2.0
PRODID:-//ChamberMaster//Event Calendar 2.0//EN
METHOD:PUBLISH
X-PUBLISHED-TTL:P3D
REFRESH-INTERVAL:P3D
CALSCALE:GREGORIAN
BEGIN:VEVENT
DTSTART:20230606T163000Z
DTEND:20230606T170000Z
X-MICROSOFT-CDO-ALLDAYEVENT:FALSE
SUMMARY:Ribbon Cutting: Byars | Wright\, Inc.
DESCRIPTION:Please join us for a Ribbon Cutting for Byars | Wright!\n\n\n\nSince 1946\, Byars Wright\, Inc.\, has developed into a major provider of commercial and personal insurance with six offices across central Alabama. As a member of the Where Relationships Matter Group\, the firm oversees the risk management and insurance needs of organizations throughout the United States and represents numerous companies\, all with a history of excellent service. Byars|Wright has been designated a Best Practices Agency by the Independent Insurance Agents and Brokers of America every year since entering the Best Practices Study in 2016. Byars Wright was also named "Best Companies to Work For in Alabama" by Business Alabama in 2016\, 2017\, 2018\, 2019\, 2020\, and 2021   winning first place in the mid-size category in 2020 and 2021.\n\n\n\nThe agency employs nearly 60 professionals\, including the representatives contained within its Risk Management Services and Employee Benefits divisions. While we continually strive to build a positive\, cohesive company culture and work environment\, we're not just a team at Byars Wright. We're family. We strive to treat others the way that we want to be treated and this seeps into every relationship we build. Selling insurance is not our mission\, building and protecting relationships is our mission. With every relationship\, we seek to understand\, we work to earn trust and then we deliver on our promises   every time\, no exceptions.
X-ALT-DESC;FMTTYPE=text/html:<span style="font-size:16px\;">Please join us for a Ribbon Cutting for <strong>Byars | Wright</strong>!</span><br />\n<br />\n<span style="font-size:16px\;"><em>Since 1946\, Byars Wright\, Inc.\, has developed into a major provider of commercial and personal insurance with six offices across central Alabama. As a member of the Where Relationships Matter Group\, the firm oversees the risk management and insurance needs of organizations throughout the United States and represents numerous companies\, all with a history of excellent service. Byars|Wright has been designated a Best Practices Agency by the Independent Insurance Agents and Brokers of America every year since entering the Best Practices Study in 2016. Byars Wright was also named &ldquo\;Best Companies to Work For in Alabama&rdquo\; by Business Alabama in 2016\, 2017\, 2018\, 2019\, 2020\, and 2021 &ndash\; winning first place in the mid-size category in 2020 and 2021.<br />\n<br />\nThe agency employs nearly 60 professionals\, including the representatives contained within its Risk Management Services and Employee Benefits divisions. While we continually strive to build a positive\, cohesive company culture and work environment\, we&rsquo\;re not just a team at Byars Wright. We&rsquo\;re family. We strive to treat others the way that we want to be treated and this seeps into every relationship we build. Selling insurance is not our mission\, building and protecting relationships is our mission. With every relationship\, we seek to understand\, we work to earn trust and then we deliver on our promises &ndash\; every time\, no exceptions.</em></span><br />\n&nbsp\;
LOCATION:
UID:e.2112.14422
SEQUENCE:3
DTSTAMP:20260423T225908Z
URL:https://cm.hsvchamber.org/events/details/ribbon-cutting-byars-wright-inc-14422
END:VEVENT

END:VCALENDAR
