BEGIN:VCALENDAR
VERSION:2.0
PRODID:-//ChamberMaster//Event Calendar 2.0//EN
METHOD:PUBLISH
X-PUBLISHED-TTL:P3D
REFRESH-INTERVAL:P3D
CALSCALE:GREGORIAN
BEGIN:VEVENT
DTSTART:20230511T213000Z
DTEND:20230511T220000Z
X-MICROSOFT-CDO-ALLDAYEVENT:FALSE
SUMMARY:Ribbon Cutting: Bridgeworth Wealth Management
DESCRIPTION:Please join us for a Ribbon Cutting for Bridgeworth Wealth Management!\n\n\n\nSince our founding in 2008\, financial planning has been the cornerstone of Bridgeworth Wealth Management. As a leader in the industry\, we leverage decades of experience and expertise to serve clients in planning\, growing\, maintaining\, and managing wealth. We help individuals and families define and achieve their financial goals through every stage of life.
X-ALT-DESC;FMTTYPE=text/html:<span style="font-size:16px\;">Please join us for a Ribbon Cutting for <strong>Bridgeworth Wealth Management</strong>!</span><br />\n<br />\n<span style="font-size:16px\;"><em>Since our founding in 2008\, financial planning has been the cornerstone of Bridgeworth Wealth Management. As a leader in the industry\, we leverage decades of experience and expertise to serve clients in planning\, growing\, maintaining\, and managing wealth. We help individuals and families define and achieve their financial goals through every stage of life.</em></span><br />\n&nbsp\;
LOCATION:Parking designated for event is the large parking lot for the The Range building.
UID:e.2112.14426
SEQUENCE:3
DTSTAMP:20260423T232725Z
URL:https://cm.hsvchamber.org/events/details/ribbon-cutting-bridgeworth-wealth-management-14426
END:VEVENT

END:VCALENDAR
