BEGIN:VCALENDAR
VERSION:2.0
PRODID:-//ChamberMaster//Event Calendar 2.0//EN
METHOD:PUBLISH
X-PUBLISHED-TTL:P3D
REFRESH-INTERVAL:P3D
CALSCALE:GREGORIAN
BEGIN:VEVENT
DTSTART:20230619T170000Z
DTEND:20230619T173000Z
X-MICROSOFT-CDO-ALLDAYEVENT:FALSE
SUMMARY:Ribbon Cutting: Big Spoon Creamery
DESCRIPTION:Please join us for a Ribbon Cutting for Big Spoon Creamery!\n\n\n\nBig Spoon Creamery is a small batch\, artisan ice cream company\, and we are truly passionate about our craft. The goal for our products is simple- to make the best ice cream in the world. Our approach to ice cream comes from the principles and values we developed through our experiences working in some of the best restaurants in the country. Our goal is to create a menu focusing on seasonal flavors using local ingredients\, as well as bringing a new\, innovative approach to the classics. Through relationships with local farmers\, artisans\, and purveyors\, we work tirelessly to curate a menu that highlights the best our region has to offer in any given season.\n\n\n\nThough we do love ice cream\, it's not the real reason we do what we do. Big Spoon was built on a love for people and a desire to use our gifts to impact others. Our biggest goal is to impact our team\, guests\, and community  in a positive way through the highest quality products\, great culture\, and unreasonable hospitality.
X-ALT-DESC;FMTTYPE=text/html:<span style="font-size:16px\;">Please join us for a Ribbon Cutting for <strong>Big Spoon Creamery</strong>!<br />\n<br />\n<em>Big Spoon Creamery is a small batch\, artisan ice cream company\, and we are truly passionate about our craft. The goal for our products is simple- to make the best ice cream in the world. Our approach to ice cream comes from the principles and values we developed through our experiences working in some of the best restaurants in the country. Our goal is to create a menu focusing on seasonal flavors using local ingredients\, as well as bringing a new\, innovative approach to the classics. Through relationships with local farmers\, artisans\, and purveyors\, we work tirelessly to curate a menu that highlights the best our region has to offer in any given season.<br />\n<br />\nThough we do love ice cream\, it&#39\;s not the real reason we do what we do. Big Spoon was built on a love for people and a desire to use our gifts to impact others. Our biggest goal is to impact our team\, guests\, and community&nbsp\; in a positive way through the highest quality products\, great culture\, and unreasonable hospitality.</em></span><br />\n&nbsp\;
LOCATION:Street parking and public deck parking available.
UID:e.2112.15972
SEQUENCE:3
DTSTAMP:20260423T230313Z
URL:https://cm.hsvchamber.org/events/details/ribbon-cutting-big-spoon-creamery-15972
END:VEVENT

END:VCALENDAR
