BEGIN:VCALENDAR
VERSION:2.0
PRODID:-//ChamberMaster//Event Calendar 2.0//EN
METHOD:PUBLISH
X-PUBLISHED-TTL:P3D
REFRESH-INTERVAL:P3D
CALSCALE:GREGORIAN
BEGIN:VEVENT
DTSTART:20230613T210000Z
DTEND:20230613T213000Z
X-MICROSOFT-CDO-ALLDAYEVENT:FALSE
SUMMARY:Ribbon Cutting: Bank Independent
DESCRIPTION:Please join us for a Ribbon Cutting for Bank Independent!\n\n\n\nBank Independent's roots run deep in the northwest Alabama area\, and like the 18 communities we serve\, our heritage is rich and steeped in tradition. Our story began in 1947 in Leighton\, Ala.\, when the area's only bank unexpectedly closed\, leaving the hardworking residents of eastern Colbert County without banking services for the first time since 1903.\n\n\n\nToday\, Bank Independent employs over 600 local team members who are deeply involved in the areas served by the bank. As we enter our seventh decade of continuous commitment to those communities\, our team members\, leadership and shareholders honor the firm foundation established by the bank's founding fathers in 1947. Bank Independent will always remain rooted in tradition even as we focus on a future of growth and prosperity.\n\n\n\nBank Independent's vision is to be the bank of choice in the communities we serve. Our Bank exists to make a positive difference in people's lives.
X-ALT-DESC;FMTTYPE=text/html:<span style="font-size:16px\;">Please join us for a Ribbon Cutting for Bank Independent!</span><br />\n<br />\n<span style="font-size:16px\;"><em>Bank Independent&rsquo\;s roots run deep in the northwest Alabama area\, and like the 18 communities we serve\, our heritage is rich and steeped in tradition. Our story began in 1947 in Leighton\, Ala.\, when the area&rsquo\;s only bank unexpectedly closed\, leaving the hardworking residents of eastern Colbert County without banking services for the first time since 1903.<br />\n<br />\nToday\, Bank Independent employs over 600 local team members who are deeply involved in the areas served by the bank. As we enter our seventh decade of continuous commitment to those communities\, our team members\, leadership and shareholders honor the firm foundation established by the bank&rsquo\;s founding fathers in 1947. Bank Independent will always remain rooted in tradition even as we focus on a future of growth and prosperity.<br />\n<br />\nBank Independent&#39\;s vision is to be the bank of choice in the communities we serve. Our Bank exists to make a positive difference in people&#39\;s lives.</em></span><br />\n&nbsp\;
LOCATION:
UID:e.2112.14424
SEQUENCE:3
DTSTAMP:20260423T230246Z
URL:https://cm.hsvchamber.org/events/details/ribbon-cutting-bank-independent-14424
END:VEVENT

END:VCALENDAR
