BEGIN:VCALENDAR
VERSION:2.0
PRODID:-//ChamberMaster//Event Calendar 2.0//EN
METHOD:PUBLISH
X-PUBLISHED-TTL:P3D
REFRESH-INTERVAL:P3D
CALSCALE:GREGORIAN
BEGIN:VEVENT
DTSTART:20260501T170000Z
DTEND:20260501T173000Z
X-MICROSOFT-CDO-ALLDAYEVENT:FALSE
SUMMARY:Ribbon Cutting: Bailor Group
DESCRIPTION:Join us for a Ribbon Cutting as we celebrate with our member\, Bailor Group!\n\n\n\nAt Bailor Group\, we partner closely with leadership teams to identify and overcome growth obstacles\, inspire top-down transformation\, and eliminate barriers to success. We optimize your business for scalability\, streamlining processes and systems\, enhancing operational efficiency\, and fostering a culture of continuous improvement to support rapid and sustainable expansion.\n\n\n\n Our expert team conducts comprehensive research\, analysis\, and evaluation of external growth opportunities\, while building the necessary capabilities to seize them. We create innovative marketing strategies that boost brand recognition\, expand existing market segments\, penetrate new markets\, and ultimately increase revenue.\n\n\n\n By re-energizing\, empowering\, and aligning all stakeholders around a unified vision\, we unlock the full potential of your business\, driving positive progress and sustainable growth.
X-ALT-DESC;FMTTYPE=text/html:<span style="font-size:16px\;">Join us for a Ribbon Cutting as we celebrate with our member\, <strong>Bailor Group</strong>!<br />\n<br />\n<em>At Bailor Group\, we partner closely with leadership teams to identify and overcome growth obstacles\, inspire top-down transformation\, and eliminate barriers to success. We optimize your business for scalability\, streamlining processes and systems\, enhancing operational efficiency\, and fostering a culture of continuous improvement to support rapid and sustainable expansion.<br />\n<br />\n&#8203\;Our expert team conducts comprehensive research\, analysis\, and evaluation of external growth opportunities\, while building the necessary capabilities to seize them. We create innovative marketing strategies that boost brand recognition\, expand existing market segments\, penetrate new markets\, and ultimately increase revenue.<br />\n<br />\n&#8203\;By re-energizing\, empowering\, and aligning all stakeholders around a unified vision\, we unlock the full potential of your business\, driving positive progress and sustainable growth.</em></span><br />\n&nbsp\;
LOCATION:
UID:e.2112.18579
SEQUENCE:3
DTSTAMP:20260423T054546Z
URL:https://cm.hsvchamber.org/events/details/ribbon-cutting-bailor-group-18579
END:VEVENT

END:VCALENDAR
