BEGIN:VCALENDAR
VERSION:2.0
PRODID:-//ChamberMaster//Event Calendar 2.0//EN
METHOD:PUBLISH
X-PUBLISHED-TTL:P3D
REFRESH-INTERVAL:P3D
CALSCALE:GREGORIAN
BEGIN:VEVENT
DTSTART:20230725T210000Z
DTEND:20230725T213000Z
X-MICROSOFT-CDO-ALLDAYEVENT:FALSE
SUMMARY:Ribbon Cutting: Ashford Advisors
DESCRIPTION:Please join us for a Ribbon Cutting for Ashford Advisors!\n\n\n\nAshford Advisors was founded in 1898 with the same principles that guide the firm today: Trust. Honesty. Integrity. We believe values matter\, and we live by them every day.\n\n\n\n"This is our commitment to you   to do all in our power to protect your wealth today and for decades to come\, to maximize its growth within your boundaries of risk\, to help provide you with the security and the assets you need to enjoy all the days of your life."   CEO\, V. Thomas Purcell\, CLU \, ChFC \n\n\n\nOver time\, the firm has expanded to offices in five states that guide clients across the country. We have a strong commitment to helping our community and improving the lives of those we serve.
X-ALT-DESC;FMTTYPE=text/html:<span style="font-size:16px\;"><span style="font-family:arial\;">Please join us for a Ribbon Cutting for <strong>Ashford Advisors</strong>!</span></span><br />\n<br />\n<span style="font-size:16px\;"><em>Ashford Advisors was founded in 1898 with the same principles that guide the firm today: Trust. Honesty. Integrity. We believe values matter\, and we live by them every day.<br />\n<br />\n&ldquo\;This is our commitment to you &ndash\; to do all in our power to protect your wealth today and for decades to come\, to maximize its growth within your boundaries of risk\, to help provide you with the security and the assets you need to enjoy all the days of your life.&rdquo\; &ndash\; CEO\, V. Thomas Purcell\, CLU<sup>&reg\;</sup>\, ChFC<sup>&reg\;</sup><br />\n<br />\nOver time\, the firm has expanded to offices in five states that guide clients across the country. We have a strong commitment to helping our community and improving the lives of those we serve.</em></span><br />\n&nbsp\;
LOCATION:Parking lots available on Eustis Ave across from the Church of the Nativity. Also\, free parking available on all sides of the Square.
UID:e.2112.15993
SEQUENCE:3
DTSTAMP:20260424T002824Z
URL:https://cm.hsvchamber.org/events/details/ribbon-cutting-ashford-advisors-15993
END:VEVENT

END:VCALENDAR
