BEGIN:VCALENDAR
VERSION:2.0
PRODID:-//ChamberMaster//Event Calendar 2.0//EN
METHOD:PUBLISH
X-PUBLISHED-TTL:P3D
REFRESH-INTERVAL:P3D
CALSCALE:GREGORIAN
BEGIN:VEVENT
DTSTART:20221104T173000Z
DTEND:20221104T180000Z
X-MICROSOFT-CDO-ALLDAYEVENT:FALSE
SUMMARY:Ribbon Cutting: Ardent Preschool & Daycare - Clift Farms
DESCRIPTION:Please join us for a Ribbon Cutting for Ardent Preschool & Daycare - Clift Farms!\n\n\n\nAt Ardent Preschool & Daycare\, we strive to maximize each child's early school experience. Our teachers nurture and encourage our students\, developing well-rounded individuals who are equipped to succeed at the next level. We aim to enhance young minds through their academic abilities. Our studies go beyond the basics of reading\, math and writing. Extended studies include arts & crafts\, Bible\, sign language\, biblical character development and Spanish to name a few.*\n\n\n\nAlongside our academic standards\, we offer security and encouragement to create a positive atmosphere that's conducive to learning and growth. With songs and games\, we make learning fun and memorable for little ones. We seek to show God's love in our everyday interaction. From Bible lessons to the meals we provide\, your child is engaged and actively attuned to God's creation and grace in the world around them. Every effort is made to equip each child with foundational character attributes that will be displayed in their daily actions while learning and while at play. Ardent endeavors to create a community that serves and loves\, and we invite you to experience the difference.
X-ALT-DESC;FMTTYPE=text/html:<span style="font-size:16px\;">Please join us for a Ribbon Cutting for <strong>Ardent Preschool &amp\; Daycare - Clift Farms</strong>!<br />\n<br />\n<em>At Ardent Preschool &amp\; Daycare\, we strive to maximize each child&rsquo\;s early school experience. Our teachers nurture and encourage our students\, developing well-rounded individuals who are equipped to succeed at the next level. We aim to enhance young minds through their academic abilities. Our studies go beyond the basics of reading\, math and writing. Extended studies include arts &amp\; crafts\, Bible\, sign language\, biblical character development and Spanish to name a few.*<br />\n<br />\nAlongside our academic standards\, we offer security and encouragement to create a positive atmosphere that&rsquo\;s conducive to learning and growth. With songs and games\, we make learning fun and memorable for little ones. We seek to show God&rsquo\;s love in our everyday interaction. From Bible lessons to the meals we provide\, your child is engaged and actively attuned to God&rsquo\;s creation and grace in the world around them. Every effort is made to equip each child with foundational character attributes that will be displayed in their daily actions&mdash\;while learning and while at play. Ardent endeavors to create a community that serves and loves\, and we invite you to experience the difference.</em></span><br />\n<br />\n&nbsp\;
LOCATION:Parking lot available for parking.
UID:e.2112.13737
SEQUENCE:3
DTSTAMP:20260421T054058Z
URL:https://cm.hsvchamber.org/events/details/ribbon-cutting-ardent-preschool-daycare-clift-farms-13737
END:VEVENT

END:VCALENDAR
