BEGIN:VCALENDAR
VERSION:2.0
PRODID:-//ChamberMaster//Event Calendar 2.0//EN
METHOD:PUBLISH
X-PUBLISHED-TTL:P3D
REFRESH-INTERVAL:P3D
CALSCALE:GREGORIAN
BEGIN:VEVENT
DTSTART:20221102T150000Z
DTEND:20221102T153000Z
X-MICROSOFT-CDO-ALLDAYEVENT:FALSE
SUMMARY:Ribbon Cutting: ApproXie Urgent Care
DESCRIPTION:Please join us for a Ribbon Cutting for ApproXie Urgent Care!\n\n\n\nApproXie is a consumer technology solution that enables patients to book same day visits with available healthcare professionals. Clinic operators are able to increase their visibility and maximize their underutilized potential to increase visit volume and revenue.
X-ALT-DESC;FMTTYPE=text/html:<span style="font-size:16px\;">Please join us for a Ribbon Cutting for <strong>ApproXie Urgent Care</strong>!</span><br />\n<br />\n<em><span style="font-size:16px\;">ApproXie is a consumer technology solution that enables patients to book same day visits with available healthcare professionals. Clinic operators are able to increase their visibility and maximize their underutilized potential to increase visit volume and revenue.</span></em><br />\n&nbsp\;
LOCATION:
UID:e.2112.13730
SEQUENCE:3
DTSTAMP:20260421T053704Z
URL:https://cm.hsvchamber.org/events/details/ribbon-cutting-approxie-urgent-care-13730
END:VEVENT

END:VCALENDAR
