BEGIN:VCALENDAR
VERSION:2.0
PRODID:-//ChamberMaster//Event Calendar 2.0//EN
METHOD:PUBLISH
X-PUBLISHED-TTL:P3D
REFRESH-INTERVAL:P3D
CALSCALE:GREGORIAN
BEGIN:VEVENT
DTSTART:20260630T160000Z
DTEND:20260630T163000Z
X-MICROSOFT-CDO-ALLDAYEVENT:FALSE
SUMMARY:Ribbon Cutting: Alfa Insurance - Foscue & Associates LLC
DESCRIPTION:Join us for a Ribbon Cutting as we celebrate with our member\, Alfa Insurance - Foscue & Associates LLC!\n\n\n\nFoscue & Associates LLC\, an Alfa Insurance agency\, is excited to celebrate a special milestone with a ribbon cutting event. Agency owner Cari Foscue recently marked her one-year anniversary as an Alfa Independent Exclusive Agent after 28 years of dedicated service working as an Agent directly for Alfa.\n\n\n\nThe office has also undergone recent updates and renovations\, creating a refreshed and welcoming space for clients. Our team proudly provides personalized coverage for home\, auto\, life\, and commercial insurance\, with a continued commitment to serving our community with care and expertise.\n\n\n\nJoin us as we celebrate this new chapter   light refreshments\, snacks\, and cake will be provided. We look forward to welcoming you!
X-ALT-DESC;FMTTYPE=text/html:<span style="font-size:16px\;">Join us for a Ribbon Cutting as we celebrate with our member\, <strong>Alfa Insurance - Foscue &amp\; Associates LLC</strong>!<br />\n<br />\n<em>Foscue &amp\; Associates LLC\, an Alfa Insurance agency\, is excited to celebrate a special milestone with a ribbon cutting event. Agency owner Cari Foscue recently marked her one-year anniversary as an Alfa Independent Exclusive Agent after 28 years of dedicated service working as an Agent directly for Alfa.<br />\n<br />\nThe office has also undergone recent updates and renovations\, creating a refreshed and welcoming space for clients. Our team proudly provides personalized coverage for home\, auto\, life\, and commercial insurance\, with a continued commitment to serving our community with care and expertise.<br />\n<br />\nJoin us as we celebrate this new chapter &ndash\; light refreshments\, snacks\, and cake will be provided. We look forward to welcoming you!</em></span><br />\n&nbsp\;
LOCATION:
UID:e.2112.18585
SEQUENCE:3
DTSTAMP:20260423T054838Z
URL:https://cm.hsvchamber.org/events/details/ribbon-cutting-alfa-insurance-foscue-associates-llc-18585
END:VEVENT

END:VCALENDAR
