BEGIN:VCALENDAR
VERSION:2.0
PRODID:-//ChamberMaster//Event Calendar 2.0//EN
METHOD:PUBLISH
X-PUBLISHED-TTL:P3D
REFRESH-INTERVAL:P3D
CALSCALE:GREGORIAN
BEGIN:VEVENT
DTSTART:20230615T190000Z
DTEND:20230615T193000Z
X-MICROSOFT-CDO-ALLDAYEVENT:FALSE
SUMMARY:Ribbon Cutting: Alabama Vision Center at The Range
DESCRIPTION:Please join us for a Ribbon Cutting for Alabama Vision Center at The Range!\n\n\n\nOpen your eyes to the advanced technology and professional service of Alabama Vision Center. We have been serving the community with world-class eye care by offering the most advanced technologies available\, delivered by a committed\, caring\, and expert group of doctors and staff.\n\n\n\nAlabama Vision Center is part of the EyeCare Partners network of practices. EyeCare Partners is a growing\, clinically integrated partnership of optometry and ophthalmology clinics and surgery centers providing a full spectrum of eye care.
X-ALT-DESC;FMTTYPE=text/html:<span style="font-size:16px\;">Please join us for a Ribbon Cutting for <strong>Alabama Vision Center at The Range</strong>!</span><br />\n<br />\n<span style="font-size:16px\;"><em>Open your eyes to the advanced technology and professional service of Alabama Vision Center. We have been serving the community with world-class eye care by offering the most advanced technologies available\, delivered by a committed\, caring\, and expert group of doctors and staff.<br />\n<br />\nAlabama Vision Center is part of the EyeCare Partners network of practices. EyeCare Partners is a growing\, clinically integrated partnership of optometry and ophthalmology clinics and surgery centers providing a full spectrum of eye care. </em></span><br />\n&nbsp\;
LOCATION:Parking available on site.
UID:e.2112.15493
SEQUENCE:3
DTSTAMP:20260423T230340Z
URL:https://cm.hsvchamber.org/events/details/ribbon-cutting-alabama-vision-center-at-the-range-15493
END:VEVENT

END:VCALENDAR
