BEGIN:VCALENDAR
VERSION:2.0
PRODID:-//ChamberMaster//Event Calendar 2.0//EN
METHOD:PUBLISH
X-PUBLISHED-TTL:P3D
REFRESH-INTERVAL:P3D
CALSCALE:GREGORIAN
BEGIN:VEVENT
DTSTART:20210517T160000Z
DTEND:20210517T170000Z
X-MICROSOFT-CDO-ALLDAYEVENT:FALSE
SUMMARY:Ribbon Cutting: Agave & Rye
DESCRIPTION:Join us for a Ribbon Cutting ceremony for Agave & Rye! We deliver a chef-inspired take on the standard taco\, elevating this simple food into something EPIC! \n\n\n\nEPIC FOOD: 20 Different Tacos | 7 Different Chips & Dips | Countless Other EPIC Items   All Made from Scratch\n\n\n\nEPIC DRINKS: 90+ Tequilas | 85+ Bourbons | 10+ House Cocktails\n\n\n\nEPIC ENVIRONMENT: Top Staff & Service | Handcrafted Artwork Unique to Each Location
X-ALT-DESC;FMTTYPE=text/html:<br />\n<span style="font-size:16px\;">Join us for a Ribbon Cutting ceremony for Agave &amp\; Rye! We deliver a chef-inspired take on the standard taco\, elevating this simple food into something EPIC! </span><br />\n<br />\n<span style="font-size:16px\;">EPIC FOOD: 20 Different Tacos | 7 Different Chips &amp\; Dips | Countless Other EPIC Items &ndash\; All Made from Scratch</span><br />\n<br />\n<span style="font-size:16px\;">EPIC DRINKS: 90+ Tequilas | 85+ Bourbons | 10+ House Cocktails<br />\n<br />\nEPIC ENVIRONMENT: Top Staff &amp\; Service | Handcrafted Artwork Unique to Each Location</span><br />\n<br />\n<br />\n<br />\n&nbsp\;
LOCATION:365 The Bridge Street Huntsville Al 35806
UID:e.2112.12306
SEQUENCE:3
DTSTAMP:20260419T191646Z
URL:https://cm.hsvchamber.org/events/details/ribbon-cutting-agave-rye-12306
END:VEVENT

END:VCALENDAR
