BEGIN:VCALENDAR
VERSION:2.0
PRODID:-//ChamberMaster//Event Calendar 2.0//EN
METHOD:PUBLISH
X-PUBLISHED-TTL:P3D
REFRESH-INTERVAL:P3D
CALSCALE:GREGORIAN
BEGIN:VEVENT
DTSTART:20230512T170000Z
DTEND:20230512T173000Z
X-MICROSOFT-CDO-ALLDAYEVENT:FALSE
SUMMARY:Ribbon Cutting: Advanced Medical Clinics LLC
DESCRIPTION:Please join us for a Ribbon Cutting for Advanced Medical Clinics LLC!\n\n\n\nAdvanced Medical Clinics offers broad array of services geared to address today's most common spine and joint pain and injuries. We know there is no such thing as one-size-fits-all cure\, so we never use a one-size-fits-all approach to your diagnosis.\n\n\n\nOur mission is to provide you with advanced personalized\, high-quality care. We are dedicated to improving and maintaining your health through preventative care and treating chronic diseases.\n\n\n\nOur goal is to improve and maintain your overall health and to empower you with an understanding of your condition and wellness plan. Let's get started today on path to your life-long wellness.
X-ALT-DESC;FMTTYPE=text/html:<span style="font-size:16px\;">Please join us for a Ribbon Cutting for <strong>Advanced Medical Clinics LLC</strong>!<br />\n<br />\n<em>Advanced Medical Clinics offers broad array of services geared to address today&rsquo\;s most common spine and joint pain and injuries. We know there is no such thing as one-size-fits-all cure\, so we never use a one-size-fits-all approach to your diagnosis.<br />\n<br />\nOur mission is to provide you with advanced personalized\, high-quality care. We are dedicated to improving and maintaining your health through preventative care and treating chronic diseases.<br />\n<br />\nOur goal is to improve and maintain your overall health and to empower you with an understanding of your condition and wellness plan. Let&#39\;s get started today on path to your life-long wellness.</em></span><br />\n&nbsp\;
LOCATION:
UID:e.2112.14454
SEQUENCE:3
DTSTAMP:20260423T212704Z
URL:https://cm.hsvchamber.org/events/details/ribbon-cutting-advanced-medical-clinics-llc-14454
END:VEVENT

END:VCALENDAR
