BEGIN:VCALENDAR
VERSION:2.0
PRODID:-//ChamberMaster//Event Calendar 2.0//EN
METHOD:PUBLISH
X-PUBLISHED-TTL:P3D
REFRESH-INTERVAL:P3D
CALSCALE:GREGORIAN
BEGIN:VEVENT
DTSTART:20210614T150000Z
DTEND:20210614T160000Z
X-MICROSOFT-CDO-ALLDAYEVENT:FALSE
SUMMARY:Ribbon Cutting: Accenture Federal Services
DESCRIPTION:Join us for a Ribbon Cutting ceremony for Accenture!\n\n\n\nAt Accenture\, we are committed to create lasting change at the intersection of technology and human ingenuity for our business and communities. We help business stay ahead in the digital economy by bringing the New to leading companies including 95 of the Fortune 100 and more than three-quarters of the Fortune 500.\n\n\n\nLearn more.
X-ALT-DESC;FMTTYPE=text/html:<br />\n<span style="font-size:18px\;">Join us for a Ribbon Cutting ceremony for Accenture!<br />\n<br />\n<em>At Accenture\, we are committed to create lasting change at the intersection of technology and human ingenuity for our business and communities. We help business stay ahead in the digital economy by bringing the New to leading companies&mdash\;including 95 of the Fortune 100 and more than three-quarters of the Fortune 500.</em><br />\n<br />\n<a href="https://www.accenture.com/us-en/about/company/united-states"><em>Learn more.</em></a></span>
LOCATION:Invention to Innovation Center (I2C) UAH Campus
UID:e.2112.12577
SEQUENCE:3
DTSTAMP:20260421T114742Z
URL:https://cm.hsvchamber.org/events/details/ribbon-cutting-accenture-federal-services-12577
END:VEVENT

END:VCALENDAR
