BEGIN:VCALENDAR
VERSION:2.0
PRODID:-//ChamberMaster//Event Calendar 2.0//EN
METHOD:PUBLISH
X-PUBLISHED-TTL:P3D
REFRESH-INTERVAL:P3D
CALSCALE:GREGORIAN
BEGIN:VEVENT
DTSTART:20150730T200000Z
DTEND:20150730T210000Z
X-MICROSOFT-CDO-ALLDAYEVENT:FALSE
SUMMARY:Ribbon Cutting: Academy for Academics & Arts (AAA)
DESCRIPTION:
X-ALT-DESC;FMTTYPE=text/html:
LOCATION:Academy of Academics & Arts (AAA) 4800 Sparkman Dr. Huntsville\, AL 35810
UID:e.2112.3240
SEQUENCE:3
DTSTAMP:20260419T160350Z
URL:https://cm.hsvchamber.org/events/details/ribbon-cutting-academy-for-academics-arts-aaa-07-30-2015-3240
END:VEVENT

END:VCALENDAR
