BEGIN:VCALENDAR
VERSION:2.0
PRODID:-//ChamberMaster//Event Calendar 2.0//EN
METHOD:PUBLISH
X-PUBLISHED-TTL:P3D
REFRESH-INTERVAL:P3D
CALSCALE:GREGORIAN
BEGIN:VEVENT
DTSTART:20230616T170000Z
DTEND:20230616T173000Z
X-MICROSOFT-CDO-ALLDAYEVENT:FALSE
SUMMARY:Ribbon Cutting: Above: Space Development Corporation
DESCRIPTION:Please join us for a Ribbon Cutting for Above: Space Development Corporation!\n\n\n\nAbove: Space Development Corporation\, previously known as Orbital Assembly\, develops and operates gravity-capable space stations on-orbit\, in cislunar space\, and throughout the solar system\; enabling humanity to work\, play\, and thrive in the space ecosystem.\n\n\n\nWe leverage space flight heritage commercial off-the-shelf (COTS) products and our own innovative proprietary technology to build hybrid space stations with artificial gravity.\n\n\n\nCheck out Our Future in Space podcast.
X-ALT-DESC;FMTTYPE=text/html:<span style="font-size:16px\;">Please join us for a Ribbon Cutting for <strong>Above: Space Development Corporation</strong>!</span><br />\n<br />\n<span style="font-size:16px\;"><em>Above: Space Development Corporation\, previously known as Orbital Assembly\, develops and operates gravity-capable space stations on-orbit\, in cislunar space\, and throughout the solar system\; enabling humanity to work\, play\, and thrive in the space ecosystem.<br />\n<br />\nWe leverage space flight heritage commercial off-the-shelf (COTS) products and our own innovative proprietary technology to build hybrid space stations with artificial gravity.</em></span><br />\n<br />\n<span style="font-size:16px\;"><em>Check out <a href="https://abovespace.com/ourfutureinspace">Our Future in Space</a> podcast.</em></span><br />\n&nbsp\;
LOCATION:Parking in gravel parking lot in front of the building. See on Google Maps
UID:e.2112.15569
SEQUENCE:3
DTSTAMP:20260423T230054Z
URL:https://cm.hsvchamber.org/events/details/ribbon-cutting-above-space-development-corporation-15569
END:VEVENT

END:VCALENDAR
