BEGIN:VCALENDAR
VERSION:2.0
PRODID:-//ChamberMaster//Event Calendar 2.0//EN
METHOD:PUBLISH
X-PUBLISHED-TTL:P3D
REFRESH-INTERVAL:P3D
CALSCALE:GREGORIAN
BEGIN:VEVENT
DTSTART;VALUE=DATE:20220828
DTEND;VALUE=DATE:20220830
TRANSP:TRANSPARENT
X-MICROSOFT-CDO-ALLDAYEVENT:TRUE
SUMMARY:MEMBER EVENTS: The Joy of Juneteenth with Opal Lee
DESCRIPTION:Meet Opal Lee\, Grandmother of Juneteenth. The first 100 attendees will receive a free copy of Dr. Lee's book\, Juneteenth: A Children's Story\, as a gift from the UAH Humanities Center. (Other giveaways also will be available.) This event is free\, open to the public\, accessible\, and child-friendly. Masks are required.\n\n\n\n\n\nBOOK SIGNING WITH OPAL LEE\n\nSunday\, Aug. 28   3 PM\n\nMoran Hall Auditorium (Oakwood University)\n\nThis event is free\, open to the public\, accessible\, and child-friendly. Masks are required.\n\n    \n\nMeet Ms. Lee\, and have her sign a copy of her children's book\, Juneteenth: A Children's Story.\n\n\n\n\n\nDIALOGUE WITH OPAL LEE\n\nMonday\, Aug. 29   6 PM   Doors open at 5:30 PM.\n\nCharger Union Theater (The University of Alabama in Huntsville)\n\nThis event is free\, open to the public\, accessible\, and child-friendly.\n\n\n\nHear Ms. Lee discuss the history and significance of Juneteenth\, and pick up some free souvenirs from the UAH Humanities Center. WAFF's Margo Gray will moderate\, and the City of Huntsville will make a special announcement.
X-ALT-DESC;FMTTYPE=text/html:<span style="font-size:16px\;">Meet Opal Lee\, Grandmother of Juneteenth. The first 100 attendees will receive a free copy of Dr. Lee&rsquo\;s book\,<em> Juneteenth: A Children&rsquo\;s Story</em>\, as a gift from the UAH Humanities Center. (Other giveaways also will be available.) This event is free\, open to the public\, accessible\, and child-friendly. Masks are required.<br />\n<br />\n<br />\n<strong>BOOK SIGNING WITH OPAL LEE</strong><br />\nSunday\, Aug. 28 &ndash\; 3 PM<br />\nMoran Hall Auditorium (Oakwood University)<br />\nThis event is free\, open to the public\, accessible\, and child-friendly. Masks are required.</span><br />\n&nbsp\;&nbsp\;&nbsp\;&nbsp\;<br />\n<span style="font-size:16px\;">Meet Ms. Lee\, and have her sign a copy of her children&rsquo\;s book\, <em>Juneteenth: A Children&rsquo\;s Story</em>.<br />\n<br />\n<br />\n<strong>DIALOGUE WITH OPAL LEE</strong><br />\nMonday\, Aug. 29 &ndash\; 6 PM &ndash\; Doors open at 5:30 PM.<br />\nCharger Union Theater (The University of Alabama in Huntsville)<br />\nThis event is free\, open to the public\, accessible\, and child-friendly.<br />\n<br />\nHear Ms. Lee discuss the history and significance of Juneteenth\, and pick up some free souvenirs from the UAH Humanities Center. WAFF&rsquo\;s Margo Gray will moderate\, and the City of Huntsville will make a special announcement.</span><br />\n&nbsp\;
LOCATION:
UID:e.2112.13654
SEQUENCE:3
DTSTAMP:20260423T073257Z
URL:https://cm.hsvchamber.org/events/details/member-events-the-joy-of-juneteenth-with-opal-lee-13654
END:VEVENT

END:VCALENDAR
