BEGIN:VCALENDAR
VERSION:2.0
PRODID:-//ChamberMaster//Event Calendar 2.0//EN
METHOD:PUBLISH
X-PUBLISHED-TTL:P3D
REFRESH-INTERVAL:P3D
CALSCALE:GREGORIAN
BEGIN:VEVENT
DTSTART:20151022T220000Z
DTEND:20151023T010000Z
X-MICROSOFT-CDO-ALLDAYEVENT:FALSE
SUMMARY:MEMBER EVENT: Zara Edwards Lowry Art Exhibit & Reception
DESCRIPTION:Join us for an Art Show featuring Zara Edwards. Born and raised in Caracas\, Venezuela\, Edwards began painting at a young age. Inclined to satisfy a need for visual and aesthetic stimulation\, her depictions are vivid\, colorful\, and intricate compositions. The decorative and playful metaphors that appear in her paintings are centered around the inner exploration of emotions\, desires\, basic human needs\, and the urban stages in which such themes typically occur.\n\n\n\nWe hope to see you at The Little Green Store for a lovely evening!
X-ALT-DESC;FMTTYPE=text/html:<br />\n<span style="font-size:14px"><span style="font-family:arial">Join us for an <strong>Art Show</strong> featuring Zara Edwards. Born and raised in Caracas\, Venezuela\, Edwards began painting at a young age. Inclined to satisfy a need for visual and aesthetic stimulation\, her depictions are vivid\, colorful\, and intricate compositions. The decorative and playful metaphors that appear in her paintings are centered around the inner exploration of emotions\, desires\, basic human needs\, and the urban stages in which such themes typically occur.<br />\n<br />\nWe hope to see you at The Little Green Store for a lovely evening!</span></span>
LOCATION:The Little Green Store on Monte Sano 820 Monte Sano Boulevard Huntsville\, AL 35801
UID:e.2112.3307
SEQUENCE:3
DTSTAMP:20260419T211208Z
URL:https://cm.hsvchamber.org/events/details/member-event-zara-edwards-lowry-art-exhibit-reception-10-22-2015-3307
END:VEVENT

END:VCALENDAR
