BEGIN:VCALENDAR
VERSION:2.0
PRODID:-//ChamberMaster//Event Calendar 2.0//EN
METHOD:PUBLISH
X-PUBLISHED-TTL:P3D
REFRESH-INTERVAL:P3D
CALSCALE:GREGORIAN
BEGIN:VEVENT
DTSTART:20230712T220000Z
DTEND:20230712T233000Z
X-MICROSOFT-CDO-ALLDAYEVENT:FALSE
SUMMARY:MEMBER EVENT: Women in Data - HSV Chapter
DESCRIPTION:Huntsville Women in Data 2023\n\nSpeaker Series & Networking Event\n\n\n\nJoin local chapter leaders for the inaugural Women in Data Huntsville networking and speaker series event. We will be joined by Dr. Paula Payton\, Senior Data Science Lead at Deloitte Consulting\, who will speak to emerging trends in the world of data storytelling. We will also exercise our own storytelling skills with a brief networking activity and upvote topics of interest for future sessions.\n\n\n\nA virtual Zoom option is also available for those that are not able to attend in person. Click HERE to attend virtually.\n\n\n\nCome be a part of shaping this emerging chapter!
X-ALT-DESC;FMTTYPE=text/html:<span style="font-size:18px\;">Huntsville Women in Data 2023<br />\nSpeaker Series &amp\; Networking Event</span><br />\n<br />\n<span style="font-size:16px\;">Join local chapter leaders for the inaugural <strong>Women in Data Huntsville</strong> networking and speaker series event. We will be joined by Dr. Paula Payton\, Senior Data Science Lead at Deloitte Consulting\, who will speak to emerging trends in the world of data storytelling. We will also exercise our own storytelling skills with a brief networking activity and upvote topics of interest for future sessions.<br />\n<br />\nA virtual Zoom option is also available for those that are not able to attend in person. Click <a href="https://us-east-2.protection.sophos.com/?d=zoom.us&amp\;u=aHR0cHM6Ly9kZWxvaXR0ZS56b29tLnVzL2ovOTMwNTI4MTEwNjA_cHdkPVQxTlFWMDhyVGpVMGJqQTBWSE5JZUhaNVZHSkdaejA5&amp\;i=NjJhMjBkZTZiYWNlODYxMWM0NDY4OGNi&amp\;t=RC9FVW8zTnA2TVNDSVpFWFpSaklzUGxxUkVoaGJyR0JjTWtQVmtzNldCWT0=&amp\;h=b1d26373d1114e47888d03c55dd8e2ba&amp\;s=AVNPUEhUT0NFTkNSWVBUSVadnxTaIDPG9FV2LUoLeiBoOauIA3L_RZFesxDZ_ZuLNQ"><strong>HERE</strong></a> to attend virtually.<br />\n<br />\nCome be a part of shaping this emerging chapter!</span><br />\n&nbsp\;
LOCATION:Deloitte Offices at Stovehouse
UID:e.2112.15989
SEQUENCE:3
DTSTAMP:20260424T002836Z
URL:https://cm.hsvchamber.org/events/details/member-event-women-in-data-hsv-chapter-15989
END:VEVENT

END:VCALENDAR
