BEGIN:VCALENDAR
VERSION:2.0
PRODID:-//ChamberMaster//Event Calendar 2.0//EN
METHOD:PUBLISH
X-PUBLISHED-TTL:P3D
REFRESH-INTERVAL:P3D
CALSCALE:GREGORIAN
BEGIN:VEVENT
DTSTART:20151017T010000Z
DTEND:20151017T030000Z
X-MICROSOFT-CDO-ALLDAYEVENT:FALSE
SUMMARY:MEMBER EVENT: Will Kimbrough in Concert
DESCRIPTION:Will Kimbrough is a Nashville-based singer\, songwriter\, and award-winning guitarist\, hailing from the Alabama Gulf Coast area. He has many solo albums out\, including 2014's Sideshow Love and 2015's Live at Coast. With songs recorded by Jimmy Buffett\, Little Feat\, Jack Ingram\, Todd Snider and others\, Kimbrough's undeniable talent has led to collaborations with well-known artists\, such as Rosanne Cash\, Guy Clark\, Rodney Crowell\, Steve Earle\, Emmylou Harris\, Mark Knopfler\, John Prine\, Mavis Staples the list is endless!\n\nDon't miss Will Kimbrough at Tangled String Studios!  Patrons are invited to bring refreshments. This concert is sponsored by Downtown Huntsville\, Inc.
X-ALT-DESC;FMTTYPE=text/html:<p><br />\n<span style="font-size:14px\;"><span style="font-family:arial\;"><strong>Will Kimbrough</strong>&nbsp\;is a Nashville-based singer\, songwriter\, and award-winning guitarist\, hailing from the Alabama Gulf Coast area.&nbsp\;He has many solo albums out\, including 2014&rsquo\;s <em>Sideshow Love</em> and 2015&rsquo\;s <em>Live at Coast</em>.&nbsp\;With songs recorded by Jimmy Buffett\, Little Feat\, Jack Ingram\, Todd Snider and others\, Kimbrough&rsquo\;s undeniable talent has led to collaborations with well-known artists\, such as Rosanne Cash\, Guy Clark\, Rodney Crowell\, Steve Earle\, Emmylou Harris\, Mark Knopfler\, John Prine\, Mavis Staples&hellip\;the list is endless!</span></span></p>\n\n<p><span style="font-size:14px\;"><span style="font-family:arial\;">Don&rsquo\;t miss&nbsp\;Will Kimbrough&nbsp\;at Tangled String Studios! &nbsp\;Patrons are invited&nbsp\;to bring refreshments. This concert is sponsored by&nbsp\;<strong>Downtown Huntsville\, Inc.</strong></span></span></p>\n
LOCATION:Lowe Mill ARTS & Entertainment Tangled String Studio RR7 2211 Seminole Drive Huntsville\, AL 35805
UID:e.2112.5127
SEQUENCE:3
DTSTAMP:20260419T210502Z
URL:https://cm.hsvchamber.org/events/details/member-event-will-kimbrough-in-concert-10-16-2015-5127
END:VEVENT

END:VCALENDAR
