BEGIN:VCALENDAR
VERSION:2.0
PRODID:-//ChamberMaster//Event Calendar 2.0//EN
METHOD:PUBLISH
X-PUBLISHED-TTL:P3D
REFRESH-INTERVAL:P3D
CALSCALE:GREGORIAN
BEGIN:VEVENT
DTSTART;VALUE=DATE:20151027
DTEND;VALUE=DATE:20151030
TRANSP:TRANSPARENT
X-MICROSOFT-CDO-ALLDAYEVENT:TRUE
SUMMARY:MEMBER EVENT: Wernher von Braun Memorial Symposium
DESCRIPTION:The 8th Annual Wernher von Braun Memorial Symposium will be held October 27-29 in Huntsville. Reduced rates for AAS and National Space Club members. \n\n\n\nTheme: Space Exploration and Discovery: Expanding Human Knowledge\n\n\n\n\n\n	Program\n	Online registration\n	Hotels and Transportation
X-ALT-DESC;FMTTYPE=text/html:<br />\n<span style="font-size:14px\;">The 8th Annual Wernher von Braun Memorial Symposium will be&nbsp\;held October 27-29 in Huntsville. Reduced rates for AAS and National Space Club members.</span><span style="font-size:14px\;"><span style="font-family: arial\;"> </span></span><br />\n<br />\n<span style="font-size:14px\;"><span style="font-family: arial\;">Theme: Space Exploration and Discovery: Expanding Human Knowledge</span></span>\n\n<div class="field field-name-body field-type-text-with-summary field-label-hidden">\n<div class="field-items">\n<div class="field-item even">\n<ul>\n	<li><span style="font-size:14px\;"><span style="font-family: arial\;"><a href="http://astronautical.org/sites/default/files/attachment/Program%20for%20Website1_0.pdf" target="_self"><span style="color: rgb(0\, 102\, 204)\;">Program</span></a></span></span></li>\n	<li><span style="font-size:14px\;"><span style="font-family: arial\;"><a href="https://vonbraun.rostrum-cms.com/registration/" target="_self"><span style="color: rgb(0\, 102\, 204)\;">Online registration</span></a></span></span></li>\n	<li><span style="font-size:14px\;"><span style="font-family: arial\;"><a href="http://astronautical.org/sites/default/files/attachment/Huntsville%20Hotels%20%26%20Parking%202015.pdf" target="_self"><span style="color: rgb(0\, 102\, 204)\;">Hotels and Transportation</span></a></span></span></li>\n</ul>\n</div>\n</div>\n</div>\n
LOCATION:University of Alabama in Huntsville Business Administration Building Chan Auditorium 301 Sparkman Drive Huntsville\, AL 35899
UID:e.2112.4867
SEQUENCE:3
DTSTAMP:20260419T211402Z
URL:https://cm.hsvchamber.org/events/details/member-event-wernher-von-braun-memorial-symposium-10-27-2015-4867
END:VEVENT

END:VCALENDAR
