BEGIN:VCALENDAR
VERSION:2.0
PRODID:-//ChamberMaster//Event Calendar 2.0//EN
METHOD:PUBLISH
X-PUBLISHED-TTL:P3D
REFRESH-INTERVAL:P3D
CALSCALE:GREGORIAN
BEGIN:VEVENT
DTSTART:20221117T163000Z
DTEND:20221117T180000Z
X-MICROSOFT-CDO-ALLDAYEVENT:FALSE
SUMMARY:MEMBER EVENT: Watching The Skies (LearningQUEST)
DESCRIPTION:Join David Lilly as he explores the history of Hollywood Sci-Fi films as a genre meant to entertain adult audiences. They were significantly influenced by the fears\, interests\, and concerns of their time. It will include a number of film clips of some of the best (and the worst!) of these movies.\n\n\n\nIt will be an entertaining and informative presentation for anyone who grew up during these films and continue to love them (or might become a fan!)
X-ALT-DESC;FMTTYPE=text/html:<span style="font-size:16px\;">Join David Lilly as he explores the history of Hollywood Sci-Fi films as a genre meant to entertain adult audiences. They were significantly influenced by the fears\, interests\, and concerns of their time. It will include a number of film clips of some of the best (and the worst!) of these movies.<br />\n<br />\nIt will be an entertaining and informative presentation for anyone who grew up during these films and continue to love them (or might become a fan!)</span><br />\n&nbsp\;
LOCATION:Huntsville/Madison County Public Library Downtown Branch - Auditorium
UID:e.2112.13731
SEQUENCE:3
DTSTAMP:20260421T052229Z
URL:https://cm.hsvchamber.org/events/details/member-event-watching-the-skies-learningquest-13731
END:VEVENT

END:VCALENDAR
