BEGIN:VCALENDAR
VERSION:2.0
PRODID:-//ChamberMaster//Event Calendar 2.0//EN
METHOD:PUBLISH
X-PUBLISHED-TTL:P3D
REFRESH-INTERVAL:P3D
CALSCALE:GREGORIAN
BEGIN:VEVENT
DTSTART:20210625T153000Z
DTEND:20210626T020000Z
X-MICROSOFT-CDO-ALLDAYEVENT:FALSE
SUMMARY:MEMBER EVENT: Urban Cookhouse's 4th Birthday
DESCRIPTION:Urban Cookhouse   Bridge Street is turning 4! Come out and celebrate with us. Food & drink specials all day. Balloons and activities for the kids & free UC sports cups to the first 50 customers!\n\n \n\n10:30 a.m.\n\nHuntsville/Madison County Chamber presentation\n\n\n\n11:30 a.m. 1:30 p.m.\n\nDJ Richie T performs\n\n\n\n6 p.m.   8 p.m.\n\nAntonio C. Woodruff performs\n\n\n\n\n\nWe hope you'll come celebrate with us!\n\n\n\n\n\nURBAN COOKHOUSE: FARM to FIRE to TABLE\n\nWhether you are a loyal customer\, local farmer\, landlord\, or want to know more about career and investment opportunities\, we truly appreciate your interest and support for our growing brand. At UC the commitment to "Buy Local\, Eat Urban" extends beyond the quality ingredients we cook with every day. We are unwavering in our commitment to creating local value in every community through the way we serve our guests\, the quality of life for our employees\, and the manner in which we do business with suppliers and partners\, big or small. Again\, from our family to yours\, thank you for making Urban Cookhouse the special company it is today. We look forward to serving you soon!\n\n\n\n  Will Gillespie\, president
X-ALT-DESC;FMTTYPE=text/html:<div><span style="font-size:16px\;">Urban Cookhouse &ndash\; Bridge Street is turning 4! Come out and celebrate with us. Food &amp\; drink specials all day. Balloons and activities for the kids &amp\; free UC sports cups to the first 50 customers!</span><br />\n&nbsp\;</div>\n\n<div style="margin-left: 40px\;"><span style="font-size:16px\;">10:30 a.m.<br />\nHuntsville/Madison County Chamber presentation</span></div>\n\n<div style="margin-left: 40px\;"><br />\n<span style="font-size:16px\;">11:30 a.m.&ndash\;1:30 p.m.<br />\nDJ Richie T performs</span></div>\n\n<div style="margin-left: 40px\;"><br />\n<span style="font-size:16px\;">6 p.m. &ndash\; 8 p.m.<br />\nAntonio C. Woodruff performs</span></div>\n\n<div><br />\n<br />\n<span style="font-size:16px\;">We hope you&#39\;ll come celebrate with us!<br />\n<br />\n<br />\n<em>URBAN COOKHOUSE: FARM to FIRE to TABLE</em><br />\n<span style="font-size:14px\;"><em>Whether you are a loyal customer\, local farmer\, landlord\, or want to know more about career and investment opportunities\, we truly appreciate your interest and support for our growing brand. At UC the commitment to &ldquo\;Buy Local\, Eat Urban&rdquo\; extends beyond the quality ingredients we cook with every day. We are unwavering in our commitment to creating local value in every community through the way we serve our guests\, the quality of life for our employees\, and the manner in which we do business with suppliers and partners\, big or small. Again\, from our family to yours\, thank you for making Urban Cookhouse the special company it is today. We look forward to serving you soon!<br />\n<br />\n&ndash\; Will Gillespie\, president</em></span></span></div>\n
LOCATION:
UID:e.2112.13045
SEQUENCE:3
DTSTAMP:20260421T085653Z
URL:https://cm.hsvchamber.org/events/details/member-event-urban-cookhouse-s-4th-birthday-13045
END:VEVENT

END:VCALENDAR
