BEGIN:VCALENDAR
VERSION:2.0
PRODID:-//ChamberMaster//Event Calendar 2.0//EN
METHOD:PUBLISH
X-PUBLISHED-TTL:P3D
REFRESH-INTERVAL:P3D
CALSCALE:GREGORIAN
BEGIN:VEVENT
DTSTART:20230211T010000Z
DTEND:20230211T030000Z
X-MICROSOFT-CDO-ALLDAYEVENT:FALSE
SUMMARY:MEMBER EVENT: "Too Much Light Makes the Baby Go Blind"
DESCRIPTION:Having opened in 1988 and still playing today as the longest-running show in Chicago history\, Too Much Light Makes The Baby Go Blind is an ensemble experiment in presenting "30 Plays in 60 Minutes." Each two-minutes or less play is performed in random order with an interactive audience. An onstage 60-minute timer keeps everyone honest. It's like a new show every night!\n\n\n\nProduced by arrangement with Playscripts\, Inc.\n\nRecommended for adults. Mature language and a subject matter.\n\n\n\nTickets at THTix.com or 256-536-0807
X-ALT-DESC;FMTTYPE=text/html:<span style="font-size:16px\;">Having opened in 1988 and still playing today as the longest-running show in Chicago history\,&nbsp\;<strong><em>Too Much Light Makes The Baby Go Blind</em></strong>&nbsp\;is an ensemble experiment in presenting &quot\;30 Plays in 60 Minutes.&quot\; Each two-minutes or less play is performed in random order with an interactive audience. An onstage 60-minute timer keeps everyone honest. It&#39\;s like a new show every night!<br />\n<br />\nProduced by arrangement with Playscripts\, Inc.<br />\n<span style="color:#FF0000\;"><strong>Recommended for&nbsp\;adults. Mature language and a subject matter.</strong></span><br />\n<br />\nTickets at <a href="http://THTix.com">THTix.com</a> or 256-536-0807</span><br />\n<br />\n&nbsp\;
LOCATION:
UID:e.2112.13785
SEQUENCE:3
DTSTAMP:20260423T190208Z
URL:https://cm.hsvchamber.org/events/details/member-event-too-much-light-makes-the-baby-go-blind-13785
END:VEVENT

END:VCALENDAR
