BEGIN:VCALENDAR
VERSION:2.0
PRODID:-//ChamberMaster//Event Calendar 2.0//EN
METHOD:PUBLISH
X-PUBLISHED-TTL:P3D
REFRESH-INTERVAL:P3D
CALSCALE:GREGORIAN
BEGIN:VEVENT
DTSTART:20151029T163000Z
DTEND:20151029T190000Z
X-MICROSOFT-CDO-ALLDAYEVENT:FALSE
SUMMARY:MEMBER EVENT: Tie the Ribbons
DESCRIPTION:Annual luncheon hosted by HudsonAlpha Institute for Biotechnology to benefit breast and ovarian cancer research   Information is Power.\n\n\n\nFor more information\, click here.
X-ALT-DESC;FMTTYPE=text/html:<br />\n<span style="font-size:14px\;"><span style="font-family: arial\;">Annual luncheon hosted by HudsonAlpha Institute for Biotechnology to benefit breast and ovarian cancer research &ndash\; <strong>Information is Power</strong>.<br />\n<br />\nFor more information\, click <a href="http://hudsonalpha.org/support-us/donate/tie-the-ribbons">here</a>.</span></span>
LOCATION:Von Braun Center
UID:e.2112.2269
SEQUENCE:3
DTSTAMP:20260419T210246Z
URL:https://cm.hsvchamber.org/events/details/member-event-tie-the-ribbons-10-29-2015-2269
END:VEVENT

END:VCALENDAR
