BEGIN:VCALENDAR
VERSION:2.0
PRODID:-//ChamberMaster//Event Calendar 2.0//EN
METHOD:PUBLISH
X-PUBLISHED-TTL:P3D
REFRESH-INTERVAL:P3D
CALSCALE:GREGORIAN
BEGIN:VEVENT
DTSTART:20230401T160000Z
DTEND:20230401T210000Z
X-MICROSOFT-CDO-ALLDAYEVENT:FALSE
SUMMARY:MEMBER EVENT: Third Annual Women’s Expo
DESCRIPTION:This event is dedicated to highlighting and providing Resources for Women in and around our community. You can expect Motivational Speakers\, Live Music\, Small Business Shopping\, Giveaways\, Vendors\, and tons of Women from various backgrounds\, ethnicities\, and industries.\n\n\n\nLast year\, we hosted over 100+ vendors and entrepreneurs and we saw over 850+ Visitors & Community Influencers who came by to help support the Women's Expo. In 2023\, we anticipate an even larger crowd with more vendors\, MORE WOMEN\, and more exciting things that we are adding for the upcoming year!\n\n\n\nI have dedicated my life to helping other women by showing us that we are stronger together! As a survivor of Domestic Violence\, SA\, and both Mental and Verbal Abuse\, I know what it feels like to not believe in yourself. I'm encouraging you not to give up! You can overcome anything! It takes strength\, grit\, will\, and determination. There are a group of women out there waiting to support you and push you to be your highest self!\n\n\n\nJoin us at the Women's Expo this year   Don't miss it!
X-ALT-DESC;FMTTYPE=text/html:<span style="font-size:16px\;">This event is dedicated to highlighting and providing Resources for Women in and around our community. You can expect Motivational Speakers\, Live Music\, Small Business Shopping\, Giveaways\, Vendors\, and tons of Women from various backgrounds\, ethnicities\, and industries.<br />\n<br />\nLast year\, we hosted over 100+ vendors and entrepreneurs and we saw over 850+ Visitors &amp\; Community Influencers who came by to help support the Women&rsquo\;s Expo. In 2023\, we anticipate an even larger crowd with more vendors\, MORE WOMEN\, and more exciting things that we are adding for the upcoming year!<br />\n<br />\nI have dedicated my life to helping other women by showing us that we are stronger together! As a survivor of Domestic Violence\, SA\, and both Mental and Verbal Abuse\, I know what it feels like to not believe in yourself. I&#39\;m encouraging you not to give up! You can overcome anything! It takes strength\, grit\, will\, and determination. There are a group of women out there waiting to support you and push you to be your highest self!<br />\n<br />\nJoin us at the Women&rsquo\;s Expo this year &ndash\; Don&#39\;t miss it!</span><br />\n&nbsp\;
LOCATION:VBC South Hall
UID:e.2112.14082
SEQUENCE:3
DTSTAMP:20260423T214722Z
URL:https://cm.hsvchamber.org/events/details/member-event-third-annual-women-s-expo-14082
END:VEVENT

END:VCALENDAR
