BEGIN:VCALENDAR
VERSION:2.0
PRODID:-//ChamberMaster//Event Calendar 2.0//EN
METHOD:PUBLISH
X-PUBLISHED-TTL:P3D
REFRESH-INTERVAL:P3D
CALSCALE:GREGORIAN
BEGIN:VEVENT
DTSTART:20151017T000000Z
DTEND:20151017T030000Z
X-MICROSOFT-CDO-ALLDAYEVENT:FALSE
SUMMARY:MEMBER EVENT: The Rocket City Short Film Festival
DESCRIPTION:The Rocket City Short Film Festival is Huntsville and North Alabama's premiere event for locally and regionally made short films. There will be juried awards for Best of Show and an Audience Award for cash prize. All genres of films are allowed\, and all submissions must be 15 minutes or less.\n\n\n\nThis festival is a showcase of local filmmaking talent. Our mission is to encourage amateur\, hobbyist and professional filmmakers to explore their craft. We provide a venue and awards to screen films in front of a moving loving audience.
X-ALT-DESC;FMTTYPE=text/html:<p><br />\n<span style="font-size:14px\;"><span style="font-family:arial\;">The <strong>Rocket City Short Film Festival</strong> is&nbsp\;Huntsville and North Alabama&rsquo\;s premiere event for locally and regionally made short films.&nbsp\;There will be juried awards for Best of Show and an&nbsp\;Audience Award for cash prize.&nbsp\;All genres of films&nbsp\;are allowed\, and all submissions must be&nbsp\;15 minutes or less.</span></span><br />\n<br />\n<span style="font-size:14px\;"><span style="font-family:arial\;">This festival is a showcase of local filmmaking talent.&nbsp\;Our mission is to encourage amateur\, hobbyist and professional filmmakers to explore their craft. We provide a venue and awards to screen films in front of a moving loving audience.</span></span></p>\n
LOCATION:Lowe Mill ARTS & Entertainment Flying Monkey Theatre 2211 Seminole Drive Huntsville\, AL 35805
UID:e.2112.5130
SEQUENCE:3
DTSTAMP:20260419T211846Z
URL:https://cm.hsvchamber.org/events/details/member-event-the-rocket-city-short-film-festival-10-16-2015-5130
END:VEVENT

END:VCALENDAR
