BEGIN:VCALENDAR
VERSION:2.0
PRODID:-//ChamberMaster//Event Calendar 2.0//EN
METHOD:PUBLISH
X-PUBLISHED-TTL:P3D
REFRESH-INTERVAL:P3D
CALSCALE:GREGORIAN
BEGIN:VEVENT
DTSTART:20230624T180000Z
DTEND:20230624T220000Z
X-MICROSOFT-CDO-ALLDAYEVENT:FALSE
SUMMARY:MEMBER EVENT: The Dempsey Pool Party
DESCRIPTION:We're excited to invite you to our first-ever pool party at The Dempsey Apartments in Madison! Join us for an afternoon of swimming games\, raffles\, good food\, drinks\, and more. Our residents and the entire community are welcome to join in on the fun!\n\n\n\nBring your swimsuits\, towels\, and friends. We can't wait to make a splash with you!\n\n#TheDempseyPoolParty #MadisonAL #SummerFun
X-ALT-DESC;FMTTYPE=text/html:<span style="font-size:16px\;">We&#39\;re excited to invite you to our first-ever pool party at The Dempsey Apartments in Madison! Join us for an afternoon of swimming games\, raffles\, good food\, drinks\, and more. Our residents and the entire community are welcome to join in on the fun!<br />\n<br />\nBring your swimsuits\, towels\, and friends. We can&#39\;t wait to make a splash with you!<br />\n#TheDempseyPoolParty #MadisonAL #SummerFun</span><br />\n&nbsp\;
LOCATION:
UID:e.2112.15975
SEQUENCE:3
DTSTAMP:20260423T230314Z
URL:https://cm.hsvchamber.org/events/details/member-event-the-dempsey-pool-party-15975
END:VEVENT

END:VCALENDAR
