BEGIN:VCALENDAR
VERSION:2.0
PRODID:-//ChamberMaster//Event Calendar 2.0//EN
METHOD:PUBLISH
X-PUBLISHED-TTL:P3D
REFRESH-INTERVAL:P3D
CALSCALE:GREGORIAN
BEGIN:VEVENT
DTSTART:20230406T220000Z
DTEND:20230407T000000Z
X-MICROSOFT-CDO-ALLDAYEVENT:FALSE
SUMMARY:MEMBER EVENT: The Dempsey Open House
DESCRIPTION:We are having our first event! Come and join us for charcuterie boards\, tours\, wine\, and a meet & greet. We will also have a raffle for all who participate   prizes include a $100 Visa Gift Card and a $50 Starbucks Gift Card.\n\n\n\nWe are so excited to meet you and can't wait to see you there!
X-ALT-DESC;FMTTYPE=text/html:<span style="font-size:16px">We are having our first event! Come and join us for charcuterie boards\, tours\, wine\, and a meet &amp\; greet. We will also have a raffle for all who participate &ndash\; prizes include a $100 Visa Gift Card and a $50 Starbucks Gift Card.<br />\n<br />\nWe are so excited to meet you and can&#39\;t wait to see you there!</span><br />\n&nbsp\;
LOCATION:The Dempsey Apartments
UID:e.2112.14376
SEQUENCE:3
DTSTAMP:20260423T214723Z
URL:https://cm.hsvchamber.org/events/details/member-event-the-dempsey-open-house-14376
END:VEVENT

END:VCALENDAR
