BEGIN:VCALENDAR
VERSION:2.0
PRODID:-//ChamberMaster//Event Calendar 2.0//EN
METHOD:PUBLISH
X-PUBLISHED-TTL:P3D
REFRESH-INTERVAL:P3D
CALSCALE:GREGORIAN
BEGIN:VEVENT
DTSTART:20151113T010000Z
DTEND:20151113T030000Z
X-MICROSOFT-CDO-ALLDAYEVENT:FALSE
SUMMARY:MEMBER EVENT: The Big Business of College Football
DESCRIPTION:The Big Business of College Football:\n\nA Conversation with Abraham D. Madkour & Michael Smith\n\n\n\nIn a candid conversation\, two of the leading experts on the business of college football will discuss the challenges and opportunities facing the college football sports giant. Reaching record levels of popularity\, universities are constantly challenged to grow revenue to fund state of the art facilities and improve the fan experience\, while a restless fan base wants to win at all costs. Where are the pressure points and how can all constituencies be satisfied?\n\n\n\nBringing more than 40 years of experience between them\, Abraham Madkour and Michael Smith will share inside stories on the people and personalities -- and trends -- behind one of America's most popular sports.
X-ALT-DESC;FMTTYPE=text/html:<br />\n<span style="font-size:14px\;"><span style="font-family: arial\;"><strong>The Big Business of College Football:<br />\nA Conversation with Abraham D. Madkour &amp\; Michael Smith</strong><br />\n<br />\nIn a candid conversation\, two of the leading experts on the business of college football will discuss the challenges and opportunities facing the college football sports giant. Reaching record levels of popularity\, universities are constantly challenged to grow revenue to fund state of the art facilities and improve the fan experience\, while a restless fan base wants to win at all costs. Where are the pressure points and how can all constituencies be satisfied?<br />\n<br />\nBringing more than 40 years of experience between them\, Abraham Madkour and Michael Smith will share inside stories on the people and personalities -- and trends -- behind one of America&#39\;s most popular sports.</span></span><br />\n<br />\n&nbsp\;
LOCATION:Huntsville Museum of Art 300 Church St SW Huntsville\, AL 35801
UID:e.2112.4924
SEQUENCE:3
DTSTAMP:20260420T135338Z
URL:https://cm.hsvchamber.org/events/details/member-event-the-big-business-of-college-football-11-12-2015-4924
END:VEVENT

END:VCALENDAR
