BEGIN:VCALENDAR
VERSION:2.0
PRODID:-//ChamberMaster//Event Calendar 2.0//EN
METHOD:PUBLISH
X-PUBLISHED-TTL:P3D
REFRESH-INTERVAL:P3D
CALSCALE:GREGORIAN
BEGIN:VEVENT
DTSTART:20230925T150000Z
DTEND:20230925T163000Z
X-MICROSOFT-CDO-ALLDAYEVENT:FALSE
SUMMARY:MEMBER EVENT: The 1964 British Music Invasion
DESCRIPTION:Presenter David Lilly will look at how the Beatles came to America\, conquered America\, and changed the rock & roll music scene forever.\n\n\n\nThe Beatles came to America in early 1964\, appeared on the Ed Sullivan Show\, conquered the American music scene\, and changed pop music and culture forever. This talk will examine how the Beatles accomplished all of this and\, in doing so\, became the biggest thing in the world. We'll look at newspaper and TV news reports and the Beatles' Ed Sullivan appearances and reveal how a 14-year-old Maryland girl played a key role in making all this happen. We'll also talk about the British rock groups that followed the Beatles to America during that summer of 1964 and end with a rarely seen early performance by the Rolling Stones.\n\n\n\nThis program is open to the public and sponsored by LearningQUEST.
X-ALT-DESC;FMTTYPE=text/html:<span style="font-size:16px\;"><span style="color:#4C4D4F"><span style="font-family:arial\,sans-serif">Presenter David Lilly will look at how the Beatles came to America\, conquered America\, and changed the rock &amp\; roll music scene forever.</span></span><br />\n<br />\nThe Beatles came to America in early 1964\, appeared on the Ed Sullivan Show\, conquered the American music scene\, and changed pop music and culture forever. This talk will examine how the Beatles accomplished all of this and\, in doing so\, became the biggest thing in the world. We&rsquo\;ll look at newspaper and TV news reports and the Beatles&rsquo\; Ed Sullivan appearances and reveal how a 14-year-old Maryland girl played a key role in making all this happen. We&rsquo\;ll also talk about the British rock groups that followed the Beatles to America during that summer of 1964 and end with a rarely seen early performance by the Rolling Stones.<br />\n<br />\n<span style="font-family:arial\,sans-serif"><span style="color:#4c4d4f">This program is open to the public and sponsored by LearningQUEST.</span></span></span><br />\n&nbsp\;
LOCATION:Huntsville/Madison County Public Library
UID:e.2112.16073
SEQUENCE:3
DTSTAMP:20260424T053606Z
URL:https://cm.hsvchamber.org/events/details/member-event-the-1964-british-music-invasion-16073
END:VEVENT

END:VCALENDAR
