BEGIN:VCALENDAR
VERSION:2.0
PRODID:-//ChamberMaster//Event Calendar 2.0//EN
METHOD:PUBLISH
X-PUBLISHED-TTL:P3D
REFRESH-INTERVAL:P3D
CALSCALE:GREGORIAN
BEGIN:VEVENT
DTSTART:20151003T010000Z
DTEND:20151003T030000Z
X-MICROSOFT-CDO-ALLDAYEVENT:FALSE
SUMMARY:MEMBER EVENT: Sylvia Rose Novak
DESCRIPTION:With a sound and style described as "quietly unhinged"\, Alabama songwriter Sylvia Rose Novak's sharp vibrato and versatile\, laughing fiddle couple to deliver dark and resonating lyrics. She will be in concert in the Flying Monkey Theatre\, second floor south at 8 p.m.
X-ALT-DESC;FMTTYPE=text/html:<br />\n<span style="font-size:14px\;"><span style="font-family:arial\;"><span style="color: rgb(68\, 68\, 68)\;">With a sound and style described as &ldquo\;quietly unhinged&quot\;\, Alabama songwriter Sylvia Rose Novak&rsquo\;s sharp vibrato and versatile\, laughing fiddle couple to deliver dark and resonating lyrics. She will be in concert in the Flying Monkey Theatre\, second floor south at 8 p.m.</span></span></span>
LOCATION:Lowe Mill ARTS & Entertainment Flying Monkey Theatre 2211 Seminole Drive Huntsville\, AL 35805
UID:e.2112.5099
SEQUENCE:3
DTSTAMP:20260419T210152Z
URL:https://cm.hsvchamber.org/events/details/member-event-sylvia-rose-novak-10-02-2015-5099
END:VEVENT

END:VCALENDAR
