BEGIN:VCALENDAR
VERSION:2.0
PRODID:-//ChamberMaster//Event Calendar 2.0//EN
METHOD:PUBLISH
X-PUBLISHED-TTL:P3D
REFRESH-INTERVAL:P3D
CALSCALE:GREGORIAN
BEGIN:VEVENT
DTSTART:20210305T180000Z
DTEND:20210306T023000Z
X-MICROSOFT-CDO-ALLDAYEVENT:FALSE
SUMMARY:MEMBER EVENT: SuperHot VR Tournament
DESCRIPTION:Timed SuperHot VR Tournament.\n\n15 minutes to get as far as you can with the highest score\n\n\n\nFirst Place - 1 month Reality Shaper Membership\n\nSecond Place - Altered Reality Gift Certificate
X-ALT-DESC;FMTTYPE=text/html:<br />\n<span style="font-size:16px\;">Timed SuperHot VR Tournament.<br />\n15 minutes to get as far as you can with the highest score<br />\n<br />\nFirst Place - 1 month Reality Shaper Membership<br />\nSecond Place - Altered Reality Gift Certificate</span>
LOCATION:Altered Reality Virtual Reality Arcade & Game Center
UID:e.2112.12259
SEQUENCE:3
DTSTAMP:20260421T133256Z
URL:https://cm.hsvchamber.org/events/details/member-event-superhot-vr-tournament-12259
END:VEVENT

END:VCALENDAR
