BEGIN:VCALENDAR
VERSION:2.0
PRODID:-//ChamberMaster//Event Calendar 2.0//EN
METHOD:PUBLISH
X-PUBLISHED-TTL:P3D
REFRESH-INTERVAL:P3D
CALSCALE:GREGORIAN
BEGIN:VEVENT
DTSTART:20260418T140000Z
DTEND:20260418T180000Z
X-MICROSOFT-CDO-ALLDAYEVENT:FALSE
SUMMARY:MEMBER EVENT: Super Community Scavenger Hunt
DESCRIPTION:We are excited to host our upcoming 3rd Annual Super Community Scavenger Hunt to benefit. This fun\, community-driven event brings together local businesses and supporters while raising awareness  to make a meaningful impact in our area for a specialized population of adults!\n\n\n\nWe invite you to partner with us as a sponsor and gain valuable exposure for your business while supporting a great cause. For a basic $50 sponsorship\, you will get \n\n	Your logo on all marketing\, social media promotion\, event recognition\, and complimentary registration.\n	Your business as a clue on our scavenger hunt clue sheet.\n	Social media posts from our players when they visit your business the day of the event.\n	Potential purchases made by our players as it will be encouraged.\n\nWe also welcome prize donations\, swag items\, or stop-location sponsorships.\n\n\n\nYour support helps us continue serving our community and expanding our impact. We would love to partner with you!
X-ALT-DESC;FMTTYPE=text/html:<span style="font-size:16px\;">We are excited to host our upcoming 3rd Annual <strong>Super Community Scavenger Hunt</strong> to benefit. This fun\, community-driven event brings together local businesses and supporters while raising awareness &nbsp\;to make a meaningful impact in our area for a specialized population of adults!<br />\n<br />\nWe invite you to partner with us as a sponsor and gain valuable exposure for your business while supporting a great cause. For a basic $50 sponsorship\, you will get&hellip\;</span>\n<ul>\n	<li><span style="font-size:16px\;">Your logo on all marketing\, social media promotion\, event recognition\, and complimentary registration.</span></li>\n	<li><span style="font-size:16px\;">Your business as a clue on our scavenger hunt clue sheet.</span></li>\n	<li><span style="font-size:16px\;">Social media posts from our players when they visit your business the day of the event.</span></li>\n	<li><span style="font-size:16px\;">Potential purchases made by our players as it will be encouraged.</span></li>\n</ul>\n<span style="font-size:16px\;">We also welcome prize donations\, swag items\, or stop-location sponsorships.<br />\n<br />\nYour support helps us continue serving our community and expanding our impact. We would love to partner with you!</span><br />\n&nbsp\;
LOCATION:
UID:e.2112.18403
SEQUENCE:3
DTSTAMP:20260422T161153Z
URL:https://cm.hsvchamber.org/events/details/member-event-super-community-scavenger-hunt-18403
END:VEVENT

END:VCALENDAR
