BEGIN:VCALENDAR
VERSION:2.0
PRODID:-//ChamberMaster//Event Calendar 2.0//EN
METHOD:PUBLISH
X-PUBLISHED-TTL:P3D
REFRESH-INTERVAL:P3D
CALSCALE:GREGORIAN
BEGIN:VEVENT
DTSTART:20230914T150000Z
DTEND:20230914T160000Z
X-MICROSOFT-CDO-ALLDAYEVENT:FALSE
SUMMARY:MEMBER EVENT: Strengthen Your Security Against Payroll Cyberthreats
DESCRIPTION:In a digital age where financial operations are migrating to online platforms\, the risk of cyberattacks targeting payroll transactions has surged dramatically. According to a recent report by the Federal Bureau of Investigation (FBI)\, cybercrimes related to payroll and financial fraud have increased by a staggering 75 percent in the last year alone.\n\n\n\nJoin us as cybersecurity expert Jonathan Perz highlights the current cyberthreats landscape in payroll transactions\, provides real-world threat scenarios\, and essential knowledge to fortify your organization's security defenses.\n\n \n\nREGISTRATION IS REQUIRED.
X-ALT-DESC;FMTTYPE=text/html:<span style="font-size:16px\;">In a digital age where financial operations are migrating to online platforms\, the risk of cyberattacks targeting payroll transactions has surged dramatically. According to a recent report by the Federal Bureau of Investigation (FBI)\, cybercrimes related to payroll and financial fraud have increased by a staggering 75 percent in the last year alone.<br />\n<br />\nJoin us as cybersecurity expert Jonathan Perz highlights the current cyberthreats landscape in payroll transactions\, provides real-world threat scenarios\, and essential knowledge to fortify your organization&rsquo\;s security defenses.<br />\n&nbsp\;<br />\n<strong><a href="https://bmss.zoom.us/webinar/register/WN_kS2WesoYSFSVSTl7rhu9DQ">REGISTRATION</a></strong> IS REQUIRED.</span><br />\n&nbsp\;
LOCATION:Webinar
UID:e.2112.16047
SEQUENCE:3
DTSTAMP:20260424T053629Z
URL:https://cm.hsvchamber.org/events/details/member-event-strengthen-your-security-against-payroll-cyberthreats-16047
END:VEVENT

END:VCALENDAR
