BEGIN:VCALENDAR
VERSION:2.0
PRODID:-//ChamberMaster//Event Calendar 2.0//EN
METHOD:PUBLISH
X-PUBLISHED-TTL:P3D
REFRESH-INTERVAL:P3D
CALSCALE:GREGORIAN
BEGIN:VEVENT
DTSTART:20151031T150000Z
DTEND:20151031T210000Z
X-MICROSOFT-CDO-ALLDAYEVENT:FALSE
SUMMARY:MEMBER EVENT: Spooktacular Science Halloween Glow Party
DESCRIPTION:Who turned out the lights? It may be during the day\, but we couldn't wait for the sun to set to get our glow on! Join us as we explore all things "glow" at this family-friendly Halloween party.\n\n\n\nWe will be serving up luminescent liquids\, playing with glowing gear\, and even exploring a black light maze! Costumed guests will also get a 3D printed glowing gift. So dress up and head down to Sci-Quest for some spooktacular fun!
X-ALT-DESC;FMTTYPE=text/html:<br />\n<span style="font-size:14px\;"><span style="font-family:arial\;">Who turned out the lights? It may be during the day\, but we couldn&#39\;t wait for the sun to set to get our glow on! Join us as we explore all things &quot\;glow&quot\; at this family-friendly Halloween party.<br />\n<br />\nWe will be serving up luminescent liquids\, playing with glowing gear\, and even exploring a black light maze! Costumed guests will also get a 3D printed glowing gift. So dress up and head down to Sci-Quest for some spooktacular fun! </span></span>
LOCATION:Sci-Quest 1435 Paramount Drive Huntsville\, AL 35806
UID:e.2112.4865
SEQUENCE:3
DTSTAMP:20260419T211356Z
URL:https://cm.hsvchamber.org/events/details/member-event-spooktacular-science-halloween-glow-party-10-31-2015-4865
END:VEVENT

END:VCALENDAR
