BEGIN:VCALENDAR
VERSION:2.0
PRODID:-//ChamberMaster//Event Calendar 2.0//EN
METHOD:PUBLISH
X-PUBLISHED-TTL:P3D
REFRESH-INTERVAL:P3D
CALSCALE:GREGORIAN
BEGIN:VEVENT
DTSTART:20230419T210000Z
DTEND:20230420T020000Z
X-MICROSOFT-CDO-ALLDAYEVENT:FALSE
SUMMARY:MEMBER EVENT: Special Olympics Dine & Donate
DESCRIPTION:Dine and Donate for Special Olympics PD Madison County   10% of sales will be donated to Special Olympics Alabama.
X-ALT-DESC;FMTTYPE=text/html:<span style="font-size:16px\;">Dine and Donate for Special Olympics PD Madison County &ndash\; 10% of sales will be donated to Special Olympics Alabama.</span>
LOCATION:Farm Burger
UID:e.2112.14420
SEQUENCE:3
DTSTAMP:20260423T214610Z
URL:https://cm.hsvchamber.org/events/details/member-event-special-olympics-dine-donate-14420
END:VEVENT

END:VCALENDAR
