BEGIN:VCALENDAR
VERSION:2.0
PRODID:-//ChamberMaster//Event Calendar 2.0//EN
METHOD:PUBLISH
X-PUBLISHED-TTL:P3D
REFRESH-INTERVAL:P3D
CALSCALE:GREGORIAN
BEGIN:VEVENT
DTSTART:20221112T160000Z
DTEND:20221112T200000Z
X-MICROSOFT-CDO-ALLDAYEVENT:FALSE
SUMMARY:MEMBER EVENT: Snowman Shopping Spree
DESCRIPTION:Kick off the holiday shopping season with a snowman adventure!\n\n\n\nGrab a Snow Card at any participating South Huntsville business and begin collecting your stickers. Collect 5 in a row to be registered to win a large gift basket or get your entire card stamped to be registered to win the grand prize!\n\n\n\nThere are over 18 businesses in South Huntsville that are participating in this years Snowman Shopping Spree! Check out our blog or find us on Facebook for a list of participating businesses.
X-ALT-DESC;FMTTYPE=text/html:<span style="font-size:16px\;">Kick off the holiday shopping season with a snowman adventure!<br />\n<br />\nGrab a <strong>Snow Card</strong> at any participating South Huntsville business and begin collecting your stickers. Collect 5 in a row to be registered to win a large gift basket or get your entire card stamped to be registered to win the grand prize!<br />\n<br />\nThere are over 18 businesses in South Huntsville that are participating in this years Snowman Shopping Spree! Check out our <a href="https://southhuntsvillemain.org/snowman-shopping-spree/">blog</a> or find us on <a href="https://www.facebook.com/events/584916900066561/?privacy_mutation_token=eyJ0eXBlIjowLCJjcmVhdGlvbl90aW1lIjoxNjY3ODI5NTcyLCJjYWxsc2l0ZV9pZCI6MzU5MDM2MDAxOTY4NDMyfQ%3D%3D&amp\;acontext=%7B%22ref_newsfeed_story_type%22%3A%22regular%22%2C%22source%22%3A%223%22%2C%22feed_story_type%22%3A%22117%22%2C%22action_history%22%3A%22null%22%7D&amp\;__xts__[0]=68.ARAtuAmuTWKRE3FC_ncBgmU8QNmuJ3IMH9O8uyWScpB7IuSu0GEMBtgGAs2FbDbA72WPZWTc5cXl2haw4nglmFFm44nkNtK7PbDVUoujpZLk2Xrkv3T6wz7u_ASsG-NUMBdRRN0IStyQpwR3U2XBQaR1Z5e7-_wCqG-_2Ny_4nwFga5D8x-Ro8DFW2wuGC7Qwm109VeZoUOnBCGhJcx7VIu-IsMVX3nyIaA5pa_s-KnuZN-EczYVy3bqKbQ1VCqInsAVTHAIYHJR8qr5MSJsZaxaYl6gWsLQpoi25NOFokMqG_i4CCc">Facebook</a> for a list of participating businesses.</span>
LOCATION:
UID:e.2112.13741
SEQUENCE:3
DTSTAMP:20260421T053617Z
URL:https://cm.hsvchamber.org/events/details/member-event-snowman-shopping-spree-13741
END:VEVENT

END:VCALENDAR
