BEGIN:VCALENDAR
VERSION:2.0
PRODID:-//ChamberMaster//Event Calendar 2.0//EN
METHOD:PUBLISH
X-PUBLISHED-TTL:P3D
REFRESH-INTERVAL:P3D
CALSCALE:GREGORIAN
BEGIN:VEVENT
DTSTART:20150726T003000Z
DTEND:20150726T033000Z
X-MICROSOFT-CDO-ALLDAYEVENT:FALSE
SUMMARY:MEMBER EVENT: Shuttle Park Concert
DESCRIPTION:Get out your dancing shoes and enjoy a summer evening Shuttle Park Concert under 'Pathfinder' with live music by The Yacht Rock Revue . Cash bar available along with a fleet of gourmet food trucks to satisfy any need for an evening snack.\n\n\n\nThe Yacht Rock Revue  is hailed as the Greatest Show on Surf and the finest tribute to 70s light rock to ever perform anywhere. Their spot-on renditions of Hall & Oates\, Michael McDonald\, Steely Dan\, and the rest of the Time-Life Infomercial Catalog have enthralled fans across the U.S. By blurring the lines between a tribute\, an original act\, and a comedic troupe\, The Yacht Rock Revue  has forged a unique niche market and a special bond with their fans.\n\n\n\nThe band attacks each song as if it were their own\, and the energy exchanged between the band and the crowd has more in common with a stadium U2 show than that of a typical bar band.  The band has won accolades from "Best Overall Music Act in Atlanta" and has been name-dropped by The New York Times\, Pitchfork\, the Guardian UK\, Spin\, TimeOut New York\, Billboard and MTV.com. Speaking of name-dropping\, members of the band have played on-stage with members of Weezer\, Billy Joel\, Walter Egan\, .38 Special\, John Mayer\, Zac Brown Band\, Kid Rock\, Train\, Little River Band\, Sheryl Crow\, Noel Gallagher\, Starbuck\, Sarah McLachlan\, Don Henley\, Lynyrd Skynyrd\, Neil Finn\, Jellyfish\, Devo\, Nine Inch Nails\, Joan Jett\, Wet Willie\, Bon Jovi\, Skid Row\, and the Saturday Night Live Band. (None of those were a joke.)
X-ALT-DESC;FMTTYPE=text/html:<br />\n<span style="font-size:14px\;"><span style="font-family: arial\;">Get out your dancing shoes and enjoy a summer evening <strong>Shuttle Park Concert </strong>under &#39\;Pathfinder&#39\; with live music by The Yacht Rock Revue&trade\;. Cash bar available along with a fleet of gourmet food trucks to satisfy any need for an evening snack.<br />\n<br />\nThe <strong>Yacht Rock Revue</strong>&trade\; is hailed as the <em>Greatest Show on Surf</em> and the finest tribute to 70s light rock to ever perform anywhere. Their spot-on renditions of Hall &amp\; Oates\, Michael McDonald\, Steely Dan\, and the rest of the Time-Life Infomercial Catalog have enthralled fans across the U.S. By blurring the lines between a tribute\, an original act\, and a comedic troupe\, The Yacht Rock Revue&trade\; has forged a unique niche market and a special bond with their fans.<br />\n<br />\nThe band attacks each song as if it were their own\, and the energy exchanged between the band and the crowd has more in common with a stadium U2 show than that of a typical bar band.&nbsp\; The band has won accolades from &quot\;Best Overall Music Act in Atlanta&quot\; and has been name-dropped by <em>The New York Times</em>\, <em>Pitchfork</em>\, the <em>Guardian UK</em>\, <em>Spin</em>\, <em>TimeOut New York</em>\, <em>Billboard</em> and MTV.com. Speaking of name-dropping\, members of the band have played on-stage with members of Weezer\, Billy Joel\, Walter Egan\, .38 Special\, John Mayer\, Zac Brown Band\, Kid Rock\, Train\, Little River Band\, Sheryl Crow\, Noel Gallagher\, Starbuck\, Sarah McLachlan\, Don Henley\, Lynyrd Skynyrd\, Neil Finn\, Jellyfish\, Devo\, Nine Inch Nails\, Joan Jett\, Wet Willie\, Bon Jovi\, Skid Row\, and the Saturday Night Live Band. (None of those were a joke.)</span></span><br />\n<br />\n&nbsp\;
LOCATION:One Tranquility Base Huntsville\, AL 35805
UID:e.2112.2895
SEQUENCE:3
DTSTAMP:20260419T155923Z
URL:https://cm.hsvchamber.org/events/details/member-event-shuttle-park-concert-07-25-2015-2895
END:VEVENT

END:VCALENDAR
