BEGIN:VCALENDAR
VERSION:2.0
PRODID:-//ChamberMaster//Event Calendar 2.0//EN
METHOD:PUBLISH
X-PUBLISHED-TTL:P3D
REFRESH-INTERVAL:P3D
CALSCALE:GREGORIAN
BEGIN:VEVENT
DTSTART:20151023T130000Z
DTEND:20151023T170000Z
X-MICROSOFT-CDO-ALLDAYEVENT:FALSE
SUMMARY:MEMBER EVENT: Shoot 4 Shelter
DESCRIPTION:We live in the South. We\, and/or our neighbors\, family\, friends\, business associates\, hunt and enjoy gun sports. The Downtown Rescue Mission is using this popular southern pasttime as a means to disseminate information about\, and raise funds for\, our mission to meet the physical and spiritual needs of the homeless by providing food\, clothing\, shelter and education to break the homeless cycle in the name of Christ.\n\n\n\nThe inaugural Shoot 4 Shelter is a half-day event that includes a continental breakfast and safety briefing. There will be gun games\, gift bags and door prizes as well as a fun shooting experience.
X-ALT-DESC;FMTTYPE=text/html:<br />\n<span style="font-size:14px\;"><span style="font-family: arial\;">We live in the South. We\, and/or our neighbors\, family\, friends\, business associates\, hunt and enjoy gun sports. The Downtown Rescue Mission is using this popular southern pasttime as a means to disseminate information about\, and raise funds for\, our mission to meet the physical and spiritual needs of the homeless by providing food\, clothing\, shelter and education to break the homeless cycle in the name of Christ.<br />\n<br />\nThe inaugural <strong>Shoot 4 Shelter</strong> is&nbsp\;a half-day event that includes a continental breakfast and safety briefing. There will be gun games\, gift bags and door prizes as well as a fun shooting experience.</span></span><br />\n<br />\n&nbsp\;
LOCATION:Limestone Hunting Preserve 27393 Old Schoolhouse Road Ardmore\, AL 35739
UID:e.2112.4347
SEQUENCE:3
DTSTAMP:20260419T211027Z
URL:https://cm.hsvchamber.org/events/details/member-event-shoot-4-shelter-10-23-2015-4347
END:VEVENT

END:VCALENDAR
