BEGIN:VCALENDAR
VERSION:2.0
PRODID:-//ChamberMaster//Event Calendar 2.0//EN
METHOD:PUBLISH
X-PUBLISHED-TTL:P3D
REFRESH-INTERVAL:P3D
CALSCALE:GREGORIAN
BEGIN:VEVENT
DTSTART;VALUE=DATE:20260425
DTEND;VALUE=DATE:20260426
TRANSP:TRANSPARENT
X-MICROSOFT-CDO-ALLDAYEVENT:TRUE
SUMMARY:MEMBER EVENT: Shoe Recycle Drive through April 29
DESCRIPTION:We are partnering with The Sneaker Impact to help keep reusable materials out of the landfill. Stop by the Cinemark lobby from April 22 29 at Bridge Street Town Centre and donate any shoes in any condition. These shoes will be recycled into materials to help build playgrounds and other beneficial structures!\n\n\n\nJoin us on the last day of the drive\, April 29\, in the Cinemark courtyard for an Earth Month celebration with free sustainable plant propagations\, veggie plants\, educational workshops\, and more!\n\n\n\nOur Earth Day event on April 29:\n\nJoin us on the final day of our Sneaker Impact Drive with family-friendly activities\, and free plants and coupons when you donate!\n\n\n\nEnjoy:\n\n	Live jazz music\n	Paint a pot crafts\n	Chalk art & yard games \n\nDonate a pair of shoes and receive a free plant propagation OR veggie plant!\n\nBonus recycling rewards (with shoe donation):\n\n\n	Madewell Denim Drive   Donate jeans\, get a $20 coupon per pair (no limit!)\n	H&M Textile Recycling   Donate clean clothes/textiles\, get 15% off\n\n(Shoe donation required to receive partner coupons.)
X-ALT-DESC;FMTTYPE=text/html:<span style="font-size:16px\;">We are partnering with The Sneaker Impact to help keep reusable materials out of the landfill. Stop by the Cinemark lobby from April 22&ndash\;29 at Bridge Street Town Centre and donate any shoes in <strong>any</strong> condition. These shoes will be recycled into materials to help build playgrounds and other beneficial structures!<br />\n<br />\nJoin us on the last day of the drive\, April 29\, in the Cinemark courtyard for an <strong>Earth Month</strong> celebration with free sustainable plant propagations\, veggie plants\, educational workshops\, and more!<br />\n<br />\n<strong>Our Earth Day event on April 29:</strong><br />\nJoin us on the final day of our Sneaker Impact Drive with family-friendly activities\, and free plants and coupons when you donate!<br />\n<br />\nEnjoy:</span>\n<ul>\n	<li><span style="font-size:14px\;">Live jazz music</span></li>\n	<li><span style="font-size:14px\;">Paint a pot crafts</span></li>\n	<li><span style="font-size:14px\;">Chalk art &amp\; yard games&nbsp\;</span></li>\n</ul>\n<span style="font-size:16px\;">Donate a pair of shoes and receive a free plant propagation OR veggie plant!<br />\nBonus recycling rewards (with shoe donation):</span>\n\n<ul>\n	<li><span style="font-size:16px\;"><span style="font-size:14px\;">Madewell Denim Drive &ndash\; Donate jeans\, get a $20 coupon per pair (no limit!)</span></span></li>\n	<li><span style="font-size:16px\;"><span style="font-size:14px\;">H&amp\;M Textile Recycling &ndash\; Donate clean clothes/textiles\, get 15% off</span></span></li>\n</ul>\n<em><span style="font-size:14px\;">(Shoe donation required to receive partner coupons.)</span></em><br />\n<br />\n&nbsp\;
LOCATION:Bridge Street Town Centre
UID:e.2112.18587
SEQUENCE:3
DTSTAMP:20260420T231323Z
URL:https://cm.hsvchamber.org/events/details/member-event-shoe-recycle-drive-through-april-29-18587
END:VEVENT

END:VCALENDAR
