BEGIN:VCALENDAR
VERSION:2.0
PRODID:-//ChamberMaster//Event Calendar 2.0//EN
METHOD:PUBLISH
X-PUBLISHED-TTL:P3D
REFRESH-INTERVAL:P3D
CALSCALE:GREGORIAN
BEGIN:VEVENT
DTSTART:20151004T000000Z
DTEND:20151004T040000Z
X-MICROSOFT-CDO-ALLDAYEVENT:FALSE
SUMMARY:MEMBER EVENT: Seminole Strut & The Vagabonds
DESCRIPTION:Hometown Throwdown Presents a celebration of music and arts with Seminole Strut and The Vegabonds!\n\nInfluenced by a variety of different music styles\, Seminole Strut brings forth a unique sound with a modern touch on raw rock and soul music. Backgrounds varying from classic sounds\, such as the Rolling Stones\, Led Zeppelin\, the Band\, the Beatles\, and the Allman Brothers Band\, to the stylings of funk\, jazz\, blues\, folk and heavy rhythms.\n\n\n\nMore info\n\n\n\nWith a swagger reminiscent of the Black Crowes and a tight musicianship that will have you drawing comparisons to everyone from Led Zeppelin to the Allman Brothers\, Nashville-based rock band\, THE VEGABONDS\, are just getting started. A mix of different musical interests laid the groundwork for the band's debut album\, Dear Revolution\, and its follow-up\, Southern Sons.\n\n\n\nMore info\n\n\n\n+All Ages\n\n+Live Artists\n\n+Local Vendors
X-ALT-DESC;FMTTYPE=text/html:<p><br />\n<strong><span style="font-size:14px\;"><span style="font-family:arial\;">Hometown Throwdown Presents</span></span></strong><span style="font-size:14px\;"><span style="font-family: inherit\;"> a celebration of music and arts with Seminole Strut and The Vegabonds!</span></span></p>\n\n<p><span style="font-size:14px\;">Influenced by a variety of different music styles\, <strong>Seminole Strut&nbsp\;</strong>brings forth a unique sound with a modern touch on raw rock and soul music. Backgrounds varying from classic sounds\, such as the Rolling Stones\, Led Zeppelin\, the Band\, the Beatles\, and the Allman Brothers Band\, to the stylings of funk\, jazz\, blues\, folk and heavy rhythms.<br />\n<br />\n<a href="http://www.seminolestrut.com">More info</a></span></p>\n\n<p><br />\n<span style="font-size:14px\;">With a swagger reminiscent of the Black Crowes and a tight musicianship that will have you drawing comparisons to everyone from Led Zeppelin to the Allman Brothers\, Nashville-based rock band\, <strong>THE VEGABONDS</strong>\, are just getting started. A mix of different musical interests laid the groundwork for the band&rsquo\;s debut album\, Dear Revolution\, and its follow-up\, Southern Sons.<br />\n<br />\n<a href="http://www.theVegabonds.com">More info</a></span></p>\n\n<p><br />\n<span style="font-size:14px\;">+All Ages<br />\n+Live Artists<br />\n+Local Vendors</span></p>\n
LOCATION:Flying Monkey Theatre\, 2211 Seminole Drive Huntsville AL 35805
UID:e.2112.5096
SEQUENCE:3
DTSTAMP:20260419T211417Z
URL:https://cm.hsvchamber.org/events/details/member-event-seminole-strut-the-vagabonds-10-03-2015-5096
END:VEVENT

END:VCALENDAR
