BEGIN:VCALENDAR
VERSION:2.0
PRODID:-//ChamberMaster//Event Calendar 2.0//EN
METHOD:PUBLISH
X-PUBLISHED-TTL:P3D
REFRESH-INTERVAL:P3D
CALSCALE:GREGORIAN
BEGIN:VEVENT
DTSTART;VALUE=DATE:20151009
DTEND;VALUE=DATE:20151012
TRANSP:TRANSPARENT
X-MICROSOFT-CDO-ALLDAYEVENT:TRUE
SUMMARY:MEMBER EVENT: Sean Starwars Woodcut Workshop
DESCRIPTION:Green Pea Press is thrilled to host\, for the second time around\, printmaker extraordinaire Sean Starwars of Woodcut Funhouse for a 3-day workshop!\n\nLearn to carve and print a 4-color image from multiple wood blocks\, along with tips and tricks for image preparation\, tool selection and maintenance\, ink mixing\, as well as carving and printing techniques. This workshop is open to all levels of experience.\n\nFriday\, Oct. 9 from 6:30-9:30 p.m.: Slideshow & talk\, demonstration & image prep\n\nSaturday\, Oct. 10 from 10 a.m.-2 p.m. & 4-8 p.m.: Carving blocks\n\nSunday\, Oct. 11 from 12-4 p.m.: Printing\n\nMaterials needed\n\n\n	Whatever you typically draw with (suggested 2B or softer pencils)\n	Black Sharpie Marker and Red (chisel tip) marker\n	Source material for drawing\, including Xerox copies\, if desired\n	Your choice of printmaking gouges (minimum of V gouge\, U gouge\, recommended)\n	Blank t-shirt for printing on\, if so desired\n\n\nMaterials supplied\n\n\n	Russian birch plywood\n	Assortment of colored ink\n	Paper\n	Cleaning supplies\n	There will be an assortment of cutting tools on hand for participants to borrow\, but please plan to bring some of your own\n\n\n\n\nAbout Sean Starwars:\n\nSean is proud to be an original member of the Outlaw Printmakers. His distinctive style and prolific work have rendered him one of the top contemporary printmakers in the U.S. Sean has an MFA in printmaking from LSU and a Graphic Design certificate from SCAD. He lives in Laurel\, MS with his wife and four children\, where he operates his printshop\, Woodcut Funhouse.
X-ALT-DESC;FMTTYPE=text/html:<p><br />\n<span style="font-size:14px\;"><span style="font-family:arial\;">Green Pea Press is thrilled to host\, for the second time around\, printmaker extraordinaire Sean Starwars of Woodcut Funhouse for a 3-day workshop!</span></span></p>\n\n<p><span style="font-size:14px\;"><span style="font-family:arial\;">Learn to carve and print a 4-color image from multiple wood blocks\, along with tips and tricks for image preparation\, tool selection and maintenance\, ink mixing\, as well as carving and printing techniques.&nbsp\;This workshop is open to all levels of experience.</span></span></p>\n\n<p><span style="font-size:14px\;"><span style="font-family:arial\;"><strong>Friday\, Oct. 9&nbsp\;from 6:30-9:30&nbsp\;p.m.:</strong>&nbsp\;Slideshow &amp\; talk\,&nbsp\;demonstration &amp\; image prep</span></span></p>\n\n<p><span style="font-size:14px\;"><span style="font-family:arial\;"><strong>Saturday\, Oct. 10&nbsp\;from 10&nbsp\;a.m.-2 p.m. &amp\; 4-8 p.m.:</strong>&nbsp\;Carving blocks</span></span></p>\n\n<p><span style="font-size:14px\;"><span style="font-family:arial\;"><strong>Sunday\, Oct. 11&nbsp\;from 12-4 p.m.:</strong>&nbsp\;Printing</span></span></p>\n\n<p><span style="font-size:14px\;"><span style="font-family:arial\;"><strong>Materials needed</strong></span></span></p>\n\n<ul>\n	<li><span style="font-size:14px\;"><span style="font-family:arial\;">Whatever you typically draw with (suggested 2B or softer pencils)</span></span></li>\n	<li><span style="font-size:14px\;"><span style="font-family:arial\;">Black Sharpie Marker and Red (chisel tip) marker</span></span></li>\n	<li><span style="font-size:14px\;"><span style="font-family:arial\;">Source material for drawing\, including Xerox copies\, if desired</span></span></li>\n	<li><span style="font-size:14px\;"><span style="font-family:arial\;">Your choice of printmaking gouges (minimum of V gouge\, U gouge\, recommended)</span></span></li>\n	<li><span style="font-size:14px\;"><span style="font-family:arial\;">Blank t-shirt for printing on\, if so desired</span></span></li>\n</ul>\n\n<p><span style="font-size:14px\;"><span style="font-family:arial\;"><strong>Materials supplied</strong></span></span></p>\n\n<ul>\n	<li><span style="font-size:14px\;"><span style="font-family:arial\;">Russian birch plywood</span></span></li>\n	<li><span style="font-size:14px\;"><span style="font-family:arial\;">Assortment of colored ink</span></span></li>\n	<li><span style="font-size:14px\;"><span style="font-family:arial\;">Paper</span></span></li>\n	<li><span style="font-size:14px\;"><span style="font-family:arial\;">Cleaning supplies</span></span></li>\n	<li><span style="font-size:14px\;"><span style="font-family:arial\;">There will be an assortment of cutting tools on hand for participants to borrow\, but please plan to bring some of your own</span></span></li>\n</ul>\n\n<p><br />\n<span style="font-size:14px\;"><span style="font-family:arial\;"><strong>About Sean Starwars:</strong></span></span><br />\n<em><span style="font-size:14px\;"><span style="font-family:arial\;">Sean is proud to be an original member of the&nbsp\;<a href="https://www.facebook.com/pages/OUTLAW-PRINTMAKERS/120906734619364" style="margin: 0px\; padding: 0px\; border: 0px\; font-style: inherit\; font-variant: inherit\; font-weight: inherit\; font-stretch: inherit\; font-size: inherit\; line-height: inherit\; font-family: inherit\; vertical-align: baseline\; text-decoration: none\; color: rgb(51\, 51\, 51)\;" target="_blank">Outlaw Printmakers</a>. His distinctive style and prolific work have rendered him one of the top contemporary printmakers in the U.S. Sean has an MFA in printmaking from LSU and a Graphic Design certificate from SCAD. He lives in Laurel\, MS with his wife and four children\, where he operates his printshop\,&nbsp\;<a href="http://seanstarwars.com/index.html" style="margin: 0px\; padding: 0px\; border: 0px\; font-style: inherit\; font-variant: inherit\; font-weight: inherit\; font-stretch: inherit\; font-size: inherit\; line-height: inherit\; font-family: inherit\; vertical-align: baseline\; text-decoration: none\; color: rgb(51\, 51\, 51)\;" target="_blank">Woodcut Funhouse</a>.</span></span></em><br />\n&nbsp\;</p>\n
LOCATION:Lowe Mill ARTS & Entertainment Green Pea Press Studio 122 2211 Seminole Drive Huntsville\, AL 35805
UID:e.2112.5122
SEQUENCE:3
DTSTAMP:20260419T211120Z
URL:https://cm.hsvchamber.org/events/details/member-event-sean-starwars-woodcut-workshop-10-09-2015-5122
END:VEVENT

END:VCALENDAR
