BEGIN:VCALENDAR
VERSION:2.0
PRODID:-//ChamberMaster//Event Calendar 2.0//EN
METHOD:PUBLISH
X-PUBLISHED-TTL:P3D
REFRESH-INTERVAL:P3D
CALSCALE:GREGORIAN
BEGIN:VEVENT
DTSTART:20151003T120000Z
DTEND:20151003T170000Z
X-MICROSOFT-CDO-ALLDAYEVENT:FALSE
SUMMARY:MEMBER EVENT: Riley Center's 2nd Annual Race for Hope
DESCRIPTION:Join us for The Riley Center's 2nd Annual RACE FOR HOPE -- Pounding the Pavement for Autism!\n\n\n\nCertified 10K/5K/Fun Run\n\n\n	10K - 7 a.m.\n	5K - 9 a.m.\n	Fun Run - 10 a.m.\n\n\n\n\nRegister: imAthlete.com \n\nSearch: Race for Hope\n\n\n\n \n\nThe Riley Behavioral & Educaitonal Center provides research-based treatment to children and families affected by autism spectrum disorder in Northern Alabama. Proceeds go toward programs and services for children in our community!
X-ALT-DESC;FMTTYPE=text/html:<div style="text-align:center">\n<div style="text-align: left\;"><br />\n<span style="font-size:14px\;"><span style="font-family: arial\;">Join us for The Riley Center&#39\;s 2nd Annual <strong>RACE FOR HOPE</strong> -- <em>Pounding the Pavement for Autism!</em><br />\n<br />\n<u>Certified 10K/5K/Fun Run</u></span></span></div>\n\n<ul>\n	<li style="text-align: left\;"><span style="font-size:14px\;"><span style="font-family: arial\;">10K - 7 a.m.</span></span></li>\n	<li style="text-align: left\;"><span style="font-size:14px\;"><span style="font-family: arial\;">5K - 9 a.m.</span></span></li>\n	<li style="text-align: left\;"><span style="font-size:14px\;"><span style="font-family: arial\;">Fun Run - 10 a.m.</span></span></li>\n</ul>\n\n<div style="text-align: left\;"><br />\n<span style="font-size:14px\;"><span style="font-family: arial\;">Register: <a href="http://imAthlete.com">imAthlete.com</a>&nbsp\;<br />\nSearch: Race for Hope</span></span><br />\n<br />\n&nbsp\;</div>\n\n<div style="text-align: left\;"><span style="font-size:14px\;"><span style="font-family: arial\;"><em>The Riley Behavioral &amp\; Educaitonal Center provides research-based treatment to children and families affected by autism spectrum disorder in Northern Alabama. Proceeds go toward programs and services for children in our community!&nbsp\;</em></span></span><br />\n<br />\n<br />\n&nbsp\;</div>\n</div>\n
LOCATION:AEgis Technologies 410 Jan Davis Drive Huntsville\, AL 35806
UID:e.2112.4936
SEQUENCE:3
DTSTAMP:20260419T211554Z
URL:https://cm.hsvchamber.org/events/details/member-event-riley-center-s-2nd-annual-race-for-hope-10-03-2015-4936
END:VEVENT

END:VCALENDAR
